BEGIN:VCALENDAR
VERSION:2.0
PRODID:-//BROADFIELD NEWS - ECPv6.15.20//NONSGML v1.0//EN
CALSCALE:GREGORIAN
METHOD:PUBLISH
X-WR-CALNAME:BROADFIELD NEWS
X-ORIGINAL-URL:https://news.broadfield.com
X-WR-CALDESC:Events for BROADFIELD NEWS
REFRESH-INTERVAL;VALUE=DURATION:PT1H
X-Robots-Tag:noindex
X-PUBLISHED-TTL:PT1H
BEGIN:VTIMEZONE
TZID:America/Denver
BEGIN:DAYLIGHT
TZOFFSETFROM:-0700
TZOFFSETTO:-0600
TZNAME:MDT
DTSTART:20230312T090000
END:DAYLIGHT
BEGIN:STANDARD
TZOFFSETFROM:-0600
TZOFFSETTO:-0700
TZNAME:MST
DTSTART:20231105T080000
END:STANDARD
BEGIN:DAYLIGHT
TZOFFSETFROM:-0700
TZOFFSETTO:-0600
TZNAME:MDT
DTSTART:20240310T090000
END:DAYLIGHT
BEGIN:STANDARD
TZOFFSETFROM:-0600
TZOFFSETTO:-0700
TZNAME:MST
DTSTART:20241103T080000
END:STANDARD
BEGIN:DAYLIGHT
TZOFFSETFROM:-0700
TZOFFSETTO:-0600
TZNAME:MDT
DTSTART:20250309T090000
END:DAYLIGHT
BEGIN:STANDARD
TZOFFSETFROM:-0600
TZOFFSETTO:-0700
TZNAME:MST
DTSTART:20251102T080000
END:STANDARD
END:VTIMEZONE
BEGIN:VEVENT
DTSTART;TZID=America/Denver:20241003T100000
DTEND;TZID=America/Denver:20241004T150000
DTSTAMP:20260424T235436
CREATED:20240715T175320Z
LAST-MODIFIED:20240912T143836Z
UID:29192-1727949600-1728054000@news.broadfield.com
SUMMARY:2024 Rocky Mountain AVX Expo - Broadfield Booth #305
DESCRIPTION:Broadfield will be exhibiting at the 2024 Rocky Mountain AVX Expo on October 3rd & 4th at booth #305!  \nThe Rocky Mountain Audio Video Expo\nOur industry is always changing and evolving. What was cutting edge and innovative a year ago may be obsolete today. Because of technology we must update the way we do business at breakneck speed. The 2024 Rocky Mountain Audio Video Expo (AVX) will feature over 100 manufacturers\, with access to industry experts and local pros\, along with workshops and seminars that focus on emerging AV and broadcast technologies. \nAVX will highlight integrated systems that provide solutions for IT\, AV\, broadcast\, satellite\, digital signage and presentation technologies making it possible for corporate decision makers\, producers\, distributors and end users to stay on the forefront of advances in television\, mobile\, 2nd screen\, the internet\, social media and virtual platforms. This is a must attend event for everyone involved in these industries! \nREGISTER HERE! \nAVX 2024 EXHIBIT DATES & HOURS\nThursday\, October 3\n10:00 am – 5:00 pm\nFriday\, October 4\n10:00 am – 3:00 pm
URL:https://news.broadfield.com/event/2024-rocky-mountain-avx-expo/
LOCATION:Colorado Convention Center\, 700 14th Street\, Denver\, CO\, 80202\, United States
ATTACH;FMTTYPE=image/jpeg:https://news.broadfield.com/wp-content/uploads/2024/07/img_free-promotionals_2024AVX-Signatures-01.jpg
END:VEVENT
END:VCALENDAR