BEGIN:VCALENDAR
VERSION:2.0
PRODID:-//BROADFIELD NEWS - ECPv6.15.20//NONSGML v1.0//EN
CALSCALE:GREGORIAN
METHOD:PUBLISH
X-WR-CALNAME:BROADFIELD NEWS
X-ORIGINAL-URL:https://news.broadfield.com
X-WR-CALDESC:Events for BROADFIELD NEWS
REFRESH-INTERVAL;VALUE=DURATION:PT1H
X-Robots-Tag:noindex
X-PUBLISHED-TTL:PT1H
BEGIN:VTIMEZONE
TZID:America/New_York
BEGIN:DAYLIGHT
TZOFFSETFROM:-0500
TZOFFSETTO:-0400
TZNAME:EDT
DTSTART:20240310T070000
END:DAYLIGHT
BEGIN:STANDARD
TZOFFSETFROM:-0400
TZOFFSETTO:-0500
TZNAME:EST
DTSTART:20241103T060000
END:STANDARD
BEGIN:DAYLIGHT
TZOFFSETFROM:-0500
TZOFFSETTO:-0400
TZNAME:EDT
DTSTART:20250309T070000
END:DAYLIGHT
BEGIN:STANDARD
TZOFFSETFROM:-0400
TZOFFSETTO:-0500
TZNAME:EST
DTSTART:20251102T060000
END:STANDARD
BEGIN:DAYLIGHT
TZOFFSETFROM:-0500
TZOFFSETTO:-0400
TZNAME:EDT
DTSTART:20260308T070000
END:DAYLIGHT
BEGIN:STANDARD
TZOFFSETFROM:-0400
TZOFFSETTO:-0500
TZNAME:EST
DTSTART:20261101T060000
END:STANDARD
END:VTIMEZONE
BEGIN:VEVENT
DTSTART;TZID=America/New_York:20250827T130000
DTEND;TZID=America/New_York:20250827T140000
DTSTAMP:20260424T012314
CREATED:20250814T192408Z
LAST-MODIFIED:20250814T192548Z
UID:33069-1756299600-1756303200@news.broadfield.com
SUMMARY:Upcoming AJA Reseller Webinar: Spotlight BRIDGE LIVE 3G-8 for Remote Production and OTT Delivery
DESCRIPTION:AJA Video Systems is launching its new North American Reseller Webinar Series\, offering deeper technical insights into AJA’s products and their real-world applications. The first session will spotlight the BRIDGE LIVE 3G-8\, the latest addition to the BRIDGE LIVE family. \nDesigned for critical live video environments\, the BRIDGE LIVE 3G-8 delivers 8x bidirectional 3G-SDI connections in a compact 1RU design\, doubling HD workflow channel density while providing robust encoding\, decoding\, and transcoding capabilities. \nREGISTER HERE! \nDuring this live session\, attendees will learn how to: \n\n\n 	Build encoder\, transcode\, and decode pipelines within BRIDGE LIVE\n 	Leverage broad codec support: H.264\, H.265\, NDI\, SRT\, HLS\n 	Perform pure IP transcoding between NDI\, SRT\, and HLS\n 	Use bidirectional SDI↔NDI conversion for flexible live production\n 	Achieve synchronous multi-channel transport with genlocked output\n 	Apply BRIDGE LIVE 3G-8 in OTT streaming\, remote production\, education\, sports\, and surveillance\n\nFrom REMI contribution to collaboration workflows\, BRIDGE LIVE 3G-8 offers a scalable\, cost-effective way to meet the growing demand for high-density live video delivery
URL:https://news.broadfield.com/event/upcoming-aja-reseller-webinar-spotlight-bridge-live-3g-8-for-remote-production-and-ott-delivery/
LOCATION:Microsoft Teams Meeting
END:VEVENT
END:VCALENDAR