BEGIN:VCALENDAR
VERSION:2.0
PRODID:-//BROADFIELD NEWS - ECPv6.15.20//NONSGML v1.0//EN
CALSCALE:GREGORIAN
METHOD:PUBLISH
X-WR-CALNAME:BROADFIELD NEWS
X-ORIGINAL-URL:https://news.broadfield.com
X-WR-CALDESC:Events for BROADFIELD NEWS
REFRESH-INTERVAL;VALUE=DURATION:PT1H
X-Robots-Tag:noindex
X-PUBLISHED-TTL:PT1H
BEGIN:VTIMEZONE
TZID:America/New_York
BEGIN:DAYLIGHT
TZOFFSETFROM:-0500
TZOFFSETTO:-0400
TZNAME:EDT
DTSTART:20220313T070000
END:DAYLIGHT
BEGIN:STANDARD
TZOFFSETFROM:-0400
TZOFFSETTO:-0500
TZNAME:EST
DTSTART:20221106T060000
END:STANDARD
BEGIN:DAYLIGHT
TZOFFSETFROM:-0500
TZOFFSETTO:-0400
TZNAME:EDT
DTSTART:20230312T070000
END:DAYLIGHT
BEGIN:STANDARD
TZOFFSETFROM:-0400
TZOFFSETTO:-0500
TZNAME:EST
DTSTART:20231105T060000
END:STANDARD
BEGIN:DAYLIGHT
TZOFFSETFROM:-0500
TZOFFSETTO:-0400
TZNAME:EDT
DTSTART:20240310T070000
END:DAYLIGHT
BEGIN:STANDARD
TZOFFSETFROM:-0400
TZOFFSETTO:-0500
TZNAME:EST
DTSTART:20241103T060000
END:STANDARD
END:VTIMEZONE
BEGIN:VEVENT
DTSTART;TZID=America/New_York:20230726T130000
DTEND;TZID=America/New_York:20230726T150000
DTSTAMP:20260425T222201
CREATED:20230630T171301Z
LAST-MODIFIED:20230630T171301Z
UID:25936-1690376400-1690383600@news.broadfield.com
SUMMARY:Avid Reseller Meeting 2023
DESCRIPTION:During this event\, you will have the opportunity to gain in-depth knowledge about Avid’s recently launched products\, features\, and updates. You’ll be able to interact with Avid product experts and better understand the key differentiators of Avid products\, enabling you to effectively communicate their value to potential customers. \nRegister HERE \nEvent date and time \nWednesday\, July 26 | 1:00 – 3:00 pm EDT  \nAgenda \n\n\n\n\n\n\n\n\nTopic: \n\n\nSpeaker(s): \n\n\n\n\n1:00 – 1:05pm \n\n\nAvid Channel: Unlocking Possibilities for Business Growth \n\n\nMatt GharegozlouVP of Sales\, Americas \nNicolaas Deiker \nVP Global Channel Sales and Programs \n\n\n\n\n1:05 – 2:00pm \n\n\nVideo Product Update\, including: \nAvid Media Composer\, Avid NEXIS\, and more. \nQ&A \n\n\nCorey TedrowSenior Solutions Specialist \n\n\n\n\n2:00 – 2:55pm \n\n\n\nAudio Product Update\, including: \nPro Tools\, Pro Tools | MTRX II and the Thunderbolt 3 option\,Pro Tools | MTRX Studio\, and more. \nQ&A \n\n\nChristopher Mallamaci \nSolutions Specialist \n\n\n\n\n2:55 – 3:00pm \n\n\nWrap-up and Closing Remarks \n\n\nMatt Gharegozlou \nVP of Sales\, Americas
URL:https://news.broadfield.com/event/avid-reseller-meeting-2023-2/
LOCATION:NC
ATTACH;FMTTYPE=image/jpeg:https://news.broadfield.com/wp-content/uploads/2023/06/thumbnail_image001-1.jpg
END:VEVENT
END:VCALENDAR