BEGIN:VCALENDAR
VERSION:2.0
PRODID:-//BROADFIELD NEWS - ECPv6.15.20//NONSGML v1.0//EN
CALSCALE:GREGORIAN
METHOD:PUBLISH
X-ORIGINAL-URL:https://news.broadfield.com
X-WR-CALDESC:Events for BROADFIELD NEWS
REFRESH-INTERVAL;VALUE=DURATION:PT1H
X-Robots-Tag:noindex
X-PUBLISHED-TTL:PT1H
BEGIN:VTIMEZONE
TZID:America/New_York
BEGIN:DAYLIGHT
TZOFFSETFROM:-0500
TZOFFSETTO:-0400
TZNAME:EDT
DTSTART:20240310T070000
END:DAYLIGHT
BEGIN:STANDARD
TZOFFSETFROM:-0400
TZOFFSETTO:-0500
TZNAME:EST
DTSTART:20241103T060000
END:STANDARD
BEGIN:DAYLIGHT
TZOFFSETFROM:-0500
TZOFFSETTO:-0400
TZNAME:EDT
DTSTART:20250309T070000
END:DAYLIGHT
BEGIN:STANDARD
TZOFFSETFROM:-0400
TZOFFSETTO:-0500
TZNAME:EST
DTSTART:20251102T060000
END:STANDARD
BEGIN:DAYLIGHT
TZOFFSETFROM:-0500
TZOFFSETTO:-0400
TZNAME:EDT
DTSTART:20260308T070000
END:DAYLIGHT
BEGIN:STANDARD
TZOFFSETFROM:-0400
TZOFFSETTO:-0500
TZNAME:EST
DTSTART:20261101T060000
END:STANDARD
END:VTIMEZONE
BEGIN:VEVENT
DTSTART;TZID=America/New_York:20250313T130000
DTEND;TZID=America/New_York:20250313T140000
DTSTAMP:20260424T090239
CREATED:20250312T191806Z
LAST-MODIFIED:20250312T191806Z
UID:31183-1741870800-1741874400@news.broadfield.com
SUMMARY:Mastering Live Event Production: 2025 Trends\, Tools & Techniques with Vizrt and AVIXA
DESCRIPTION:Producing live events? You’ll not want to miss this upcoming webinar! \nLive events move fast—tight timelines\, high expectations\, and no room for error. Whether you’re running a corporate town hall\, teaching a class online\, or live-streaming a high-profile event\, your audience expects a seamless\, high-quality experience—whether they’re in the room or tuning in remotely. \nVizrt’s  upcoming webinar ‘Mastering Live Event Production: 2025 Trends\, Tools & Techniques’ in collaboration with AVIXA\, is designed for AV professionals looking to refine their skills and deliver exceptional hybrid live productions. \nREGISTER HERE! \nJoin Vizrt and AVIXA on Thursday\, March 13th at 1 PM EST\, where their panel of industry pros—who’ve run countless live and hybrid events—will share real challenges they’ve faced and the solutions that got them through. Including Chris Burgos\, Senior Pre-Sales Consultant at Vizrt\, Samantha Torres\nLive Stream Technical Director at Vizrt\, and Richard Evans Senior Content Producer at Vizrt.
URL:https://news.broadfield.com/event/mastering-live-event-production-2025-trends-tools-techniques-with-vizrt-and-avixa/
ATTACH;FMTTYPE=image/png:https://news.broadfield.com/wp-content/uploads/2025/03/NA_Mastering_Live_Event_Production_Webinar_Banners_600x300_v2a.png
END:VEVENT
END:VCALENDAR