BEGIN:VCALENDAR
VERSION:2.0
PRODID:-//BROADFIELD NEWS - ECPv6.15.20//NONSGML v1.0//EN
CALSCALE:GREGORIAN
METHOD:PUBLISH
X-ORIGINAL-URL:https://news.broadfield.com
X-WR-CALDESC:Events for BROADFIELD NEWS
REFRESH-INTERVAL;VALUE=DURATION:PT1H
X-Robots-Tag:noindex
X-PUBLISHED-TTL:PT1H
BEGIN:VTIMEZONE
TZID:America/New_York
BEGIN:DAYLIGHT
TZOFFSETFROM:-0500
TZOFFSETTO:-0400
TZNAME:EDT
DTSTART:20230312T070000
END:DAYLIGHT
BEGIN:STANDARD
TZOFFSETFROM:-0400
TZOFFSETTO:-0500
TZNAME:EST
DTSTART:20231105T060000
END:STANDARD
BEGIN:DAYLIGHT
TZOFFSETFROM:-0500
TZOFFSETTO:-0400
TZNAME:EDT
DTSTART:20240310T070000
END:DAYLIGHT
BEGIN:STANDARD
TZOFFSETFROM:-0400
TZOFFSETTO:-0500
TZNAME:EST
DTSTART:20241103T060000
END:STANDARD
BEGIN:DAYLIGHT
TZOFFSETFROM:-0500
TZOFFSETTO:-0400
TZNAME:EDT
DTSTART:20250309T070000
END:DAYLIGHT
BEGIN:STANDARD
TZOFFSETFROM:-0400
TZOFFSETTO:-0500
TZNAME:EST
DTSTART:20251102T060000
END:STANDARD
END:VTIMEZONE
BEGIN:VEVENT
DTSTART;TZID=America/New_York:20241014T150000
DTEND;TZID=America/New_York:20241014T160000
DTSTAMP:20260424T231908
CREATED:20241011T133758Z
LAST-MODIFIED:20241011T133758Z
UID:29830-1728918000-1728921600@news.broadfield.com
SUMMARY:Live Your Vizion: Unleashing Creativity in Live Production | Hosted by Vizrt
DESCRIPTION:Live video has become an integral part of our everyday lives—whether in corporate settings\, education\, sports\, entertainment\, events\, news\, or broadcast. As we look toward the future of live video production\, it’s time to explore the latest innovations that are shaping the industry. \nIn this session on Monday\, October 14th at 3pm EST\, we’ll delve into the world of live video and cutting-edge graphics for every content producer. Whether it’s creating simple\, user-friendly elements to enhance a live stream or pushing the boundaries of creativity with extended reality productions\, we’ll explore how innovation and intuitive technology can transform storytelling. \nWATCH HERE! \nIt’s time to Live Your Vizion and elevate content creation to new heights.
URL:https://news.broadfield.com/event/live-your-vizion-unleashing-creativity-in-live-production-hosted-by-vizrt/
ATTACH;FMTTYPE=image/png:https://news.broadfield.com/wp-content/uploads/2024/10/4171.png
END:VEVENT
END:VCALENDAR