BEGIN:VCALENDAR
VERSION:2.0
PRODID:-//BROADFIELD NEWS - ECPv6.15.20//NONSGML v1.0//EN
CALSCALE:GREGORIAN
METHOD:PUBLISH
X-ORIGINAL-URL:https://news.broadfield.com
X-WR-CALDESC:Events for BROADFIELD NEWS
REFRESH-INTERVAL;VALUE=DURATION:PT1H
X-Robots-Tag:noindex
X-PUBLISHED-TTL:PT1H
BEGIN:VTIMEZONE
TZID:America/New_York
BEGIN:DAYLIGHT
TZOFFSETFROM:-0500
TZOFFSETTO:-0400
TZNAME:EDT
DTSTART:20250309T070000
END:DAYLIGHT
BEGIN:STANDARD
TZOFFSETFROM:-0400
TZOFFSETTO:-0500
TZNAME:EST
DTSTART:20251102T060000
END:STANDARD
BEGIN:DAYLIGHT
TZOFFSETFROM:-0500
TZOFFSETTO:-0400
TZNAME:EDT
DTSTART:20260308T070000
END:DAYLIGHT
BEGIN:STANDARD
TZOFFSETFROM:-0400
TZOFFSETTO:-0500
TZNAME:EST
DTSTART:20261101T060000
END:STANDARD
BEGIN:DAYLIGHT
TZOFFSETFROM:-0500
TZOFFSETTO:-0400
TZNAME:EDT
DTSTART:20270314T070000
END:DAYLIGHT
BEGIN:STANDARD
TZOFFSETFROM:-0400
TZOFFSETTO:-0500
TZNAME:EST
DTSTART:20271107T060000
END:STANDARD
END:VTIMEZONE
BEGIN:VEVENT
DTSTART;TZID=America/New_York:20260119T080000
DTEND;TZID=America/New_York:20260122T170000
DTSTAMP:20260423T200329
CREATED:20260109T142716Z
LAST-MODIFIED:20260109T142716Z
UID:34340-1768809600-1769101200@news.broadfield.com
SUMMARY:2026 Broadfield Sales Kick Off
DESCRIPTION:Broadfield will be hosting our annual sales kick off January 19th-22nd at are HQ and local hotel. We are taking a different approach this year with morning presentations followed by a tabletop setup for our vendors on Tuesday and Wednesday. Tuesday we will welcome the entire Broadfield Sales team\, Marketing\, and Purchasing. Wednesday we are going to bring in local dealers and integrators for the fun!  We have a lot planned for our team\, vendors\, and dealers and we look foward to this new approach.
URL:https://news.broadfield.com/event/2026-broadfield-sales-kick-off/
ATTACH;FMTTYPE=image/png:https://news.broadfield.com/wp-content/uploads/2026/01/BDI_2026_Energy-1.png
END:VEVENT
END:VCALENDAR