BEGIN:VCALENDAR
VERSION:2.0
PRODID:-//BROADFIELD NEWS - ECPv6.15.20//NONSGML v1.0//EN
CALSCALE:GREGORIAN
METHOD:PUBLISH
X-ORIGINAL-URL:https://news.broadfield.com
X-WR-CALDESC:Events for BROADFIELD NEWS
REFRESH-INTERVAL;VALUE=DURATION:PT1H
X-Robots-Tag:noindex
X-PUBLISHED-TTL:PT1H
BEGIN:VTIMEZONE
TZID:America/Los_Angeles
BEGIN:DAYLIGHT
TZOFFSETFROM:-0800
TZOFFSETTO:-0700
TZNAME:PDT
DTSTART:20230312T100000
END:DAYLIGHT
BEGIN:STANDARD
TZOFFSETFROM:-0700
TZOFFSETTO:-0800
TZNAME:PST
DTSTART:20231105T090000
END:STANDARD
BEGIN:DAYLIGHT
TZOFFSETFROM:-0800
TZOFFSETTO:-0700
TZNAME:PDT
DTSTART:20240310T100000
END:DAYLIGHT
BEGIN:STANDARD
TZOFFSETFROM:-0700
TZOFFSETTO:-0800
TZNAME:PST
DTSTART:20241103T090000
END:STANDARD
BEGIN:DAYLIGHT
TZOFFSETFROM:-0800
TZOFFSETTO:-0700
TZNAME:PDT
DTSTART:20250309T100000
END:DAYLIGHT
BEGIN:STANDARD
TZOFFSETFROM:-0700
TZOFFSETTO:-0800
TZNAME:PST
DTSTART:20251102T090000
END:STANDARD
END:VTIMEZONE
BEGIN:VEVENT
DTSTART;VALUE=DATE:20240109
DTEND;VALUE=DATE:20240113
DTSTAMP:20260425T172453
CREATED:20231213T175804Z
LAST-MODIFIED:20231213T175804Z
UID:27354-1704758400-1705103999@news.broadfield.com
SUMMARY:CES 2024
DESCRIPTION:Flip the switch on global business opportunity with CES\, where you can meet with partners\, customers\, media\, investors\, and policymakers from across the industry and the world all in one place. Don’t miss your chance to be a part of the most powerful tech event in the world on January 9th-12th. \nREGISTER HERE! \n\n\nCES® is the most powerful tech event in the world — the proving ground for breakthrough technologies and global innovators. This is where brands get business done\, meet new partners and where the industry’s sharpest minds take the stage to unveil their latest releases and boldest breakthroughs. Owned and produced by the Consumer Technology Association (CTA)®\, CES is the only trade show that showcases the entire tech landscape at one event. \n 
URL:https://news.broadfield.com/event/ces-2024/
LOCATION:Las Vegas Convention Center\, 3150 Paradise Rd\,\, Las Vegas\, NV\, 89109\, United States
ATTACH;FMTTYPE=image/png:https://news.broadfield.com/wp-content/uploads/2023/12/MicrosoftTeams-image.png
END:VEVENT
END:VCALENDAR