BEGIN:VCALENDAR
VERSION:2.0
PRODID:-//BROADFIELD NEWS - ECPv6.15.20//NONSGML v1.0//EN
CALSCALE:GREGORIAN
METHOD:PUBLISH
X-WR-CALNAME:BROADFIELD NEWS
X-ORIGINAL-URL:https://news.broadfield.com
X-WR-CALDESC:Events for BROADFIELD NEWS
REFRESH-INTERVAL;VALUE=DURATION:PT1H
X-Robots-Tag:noindex
X-PUBLISHED-TTL:PT1H
BEGIN:VTIMEZONE
TZID:America/Vancouver
BEGIN:DAYLIGHT
TZOFFSETFROM:-0800
TZOFFSETTO:-0700
TZNAME:PDT
DTSTART:20240310T100000
END:DAYLIGHT
BEGIN:STANDARD
TZOFFSETFROM:-0700
TZOFFSETTO:-0800
TZNAME:PST
DTSTART:20241103T090000
END:STANDARD
BEGIN:DAYLIGHT
TZOFFSETFROM:-0800
TZOFFSETTO:-0700
TZNAME:PDT
DTSTART:20250309T100000
END:DAYLIGHT
BEGIN:STANDARD
TZOFFSETFROM:-0700
TZOFFSETTO:-0800
TZNAME:PST
DTSTART:20251102T090000
END:STANDARD
BEGIN:DAYLIGHT
TZOFFSETFROM:-0800
TZOFFSETTO:-0700
TZNAME:PDT
DTSTART:20260308T100000
END:DAYLIGHT
BEGIN:STANDARD
TZOFFSETFROM:-0700
TZOFFSETTO:-0800
TZNAME:PST
DTSTART:20261101T090000
END:STANDARD
END:VTIMEZONE
BEGIN:VEVENT
DTSTART;TZID=America/Vancouver:20250107T090000
DTEND;TZID=America/Vancouver:20250110T170000
DTSTAMP:20260424T193315
CREATED:20241112T142220Z
LAST-MODIFIED:20241112T142220Z
UID:30160-1736240400-1736528400@news.broadfield.com
SUMMARY:CES 2025
DESCRIPTION:CES is the most powerful tech event in the world – the proving ground for breakthrough technologies and global innovators.This is where brands get business done\, meet new partners and where the industry’s sharpest minds take the stage to unveil their latest releases and boldest breakthroughs. \n  \nREGISTER HERE! \n  \nWhy Attend CES 2025\nThe world’s most powerful tech event is your place to experience the innovations transforming how we live.\nThis is where global brands get business done\, meet new partners and where the industry’s sharpest minds take the stage to unveil their latest releases and boldest breakthroughs. Get a real feel for the latest solutions to the world’s biggest challenges with immersive activations and demos. Engage with the greatest minds and most impactful brands of our time. Registration for CES 2025 is now open. \n 
URL:https://news.broadfield.com/event/ces-2025/
ATTACH;FMTTYPE=image/jpeg:https://news.broadfield.com/wp-content/uploads/2024/11/459167499_916174067207092_1793556996099893314_n.jpg
END:VEVENT
END:VCALENDAR