BEGIN:VCALENDAR
VERSION:2.0
PRODID:-//BROADFIELD NEWS - ECPv6.15.20//NONSGML v1.0//EN
CALSCALE:GREGORIAN
METHOD:PUBLISH
X-WR-CALNAME:BROADFIELD NEWS
X-ORIGINAL-URL:https://news.broadfield.com
X-WR-CALDESC:Events for BROADFIELD NEWS
REFRESH-INTERVAL;VALUE=DURATION:PT1H
X-Robots-Tag:noindex
X-PUBLISHED-TTL:PT1H
BEGIN:VTIMEZONE
TZID:America/New_York
BEGIN:DAYLIGHT
TZOFFSETFROM:-0500
TZOFFSETTO:-0400
TZNAME:EDT
DTSTART:20220313T070000
END:DAYLIGHT
BEGIN:STANDARD
TZOFFSETFROM:-0400
TZOFFSETTO:-0500
TZNAME:EST
DTSTART:20221106T060000
END:STANDARD
BEGIN:DAYLIGHT
TZOFFSETFROM:-0500
TZOFFSETTO:-0400
TZNAME:EDT
DTSTART:20230312T070000
END:DAYLIGHT
BEGIN:STANDARD
TZOFFSETFROM:-0400
TZOFFSETTO:-0500
TZNAME:EST
DTSTART:20231105T060000
END:STANDARD
BEGIN:DAYLIGHT
TZOFFSETFROM:-0500
TZOFFSETTO:-0400
TZNAME:EDT
DTSTART:20240310T070000
END:DAYLIGHT
BEGIN:STANDARD
TZOFFSETFROM:-0400
TZOFFSETTO:-0500
TZNAME:EST
DTSTART:20241103T060000
END:STANDARD
END:VTIMEZONE
BEGIN:VEVENT
DTSTART;VALUE=DATE:20230926
DTEND;VALUE=DATE:20230929
DTSTAMP:20260425T224508
CREATED:20230207T211231Z
LAST-MODIFIED:20230829T174506Z
UID:24497-1695686400-1695945599@news.broadfield.com
SUMMARY:Dan & Glen Roadshow Visits the LA Area Q3
DESCRIPTION:Dan & Glen are back on the road for the Dan & Glen roadshow! In Q3 they will be visiting the Los Angeles area and hosting a happy hour on Wednesday September 27th. \nTo schedule a visit or more information about the happy hour\, please email dan@broadfield.com or glen@broadfield.com \n 
URL:https://news.broadfield.com/event/dan-glen-roadshow-visits-chicago-metropolitan-area-q3/
ATTACH;FMTTYPE=image/png:https://news.broadfield.com/wp-content/uploads/2023/02/Glen-Dan-Roadshow-2023.png
END:VEVENT
END:VCALENDAR