BEGIN:VCALENDAR
VERSION:2.0
PRODID:-//BROADFIELD NEWS - ECPv6.15.20//NONSGML v1.0//EN
CALSCALE:GREGORIAN
METHOD:PUBLISH
X-ORIGINAL-URL:https://news.broadfield.com
X-WR-CALDESC:Events for BROADFIELD NEWS
REFRESH-INTERVAL;VALUE=DURATION:PT1H
X-Robots-Tag:noindex
X-PUBLISHED-TTL:PT1H
BEGIN:VTIMEZONE
TZID:America/North_Dakota/Center
BEGIN:DAYLIGHT
TZOFFSETFROM:-0600
TZOFFSETTO:-0500
TZNAME:CDT
DTSTART:20240310T080000
END:DAYLIGHT
BEGIN:STANDARD
TZOFFSETFROM:-0500
TZOFFSETTO:-0600
TZNAME:CST
DTSTART:20241103T070000
END:STANDARD
BEGIN:DAYLIGHT
TZOFFSETFROM:-0600
TZOFFSETTO:-0500
TZNAME:CDT
DTSTART:20250309T080000
END:DAYLIGHT
BEGIN:STANDARD
TZOFFSETFROM:-0500
TZOFFSETTO:-0600
TZNAME:CST
DTSTART:20251102T070000
END:STANDARD
BEGIN:DAYLIGHT
TZOFFSETFROM:-0600
TZOFFSETTO:-0500
TZNAME:CDT
DTSTART:20260308T080000
END:DAYLIGHT
BEGIN:STANDARD
TZOFFSETFROM:-0500
TZOFFSETTO:-0600
TZNAME:CST
DTSTART:20261101T070000
END:STANDARD
END:VTIMEZONE
BEGIN:VEVENT
DTSTART;TZID=America/North_Dakota/Center:20250220T090000
DTEND;TZID=America/North_Dakota/Center:20250220T160000
DTSTAMP:20260424T114248
CREATED:20241210T183635Z
LAST-MODIFIED:20250124T155524Z
UID:30468-1740042000-1740067200@news.broadfield.com
SUMMARY:Digital Resources\, Inc. 2025 Technology Showcase
DESCRIPTION:Celebrate 25 years of DRI at the 2025 Digital Resources\, Inc. 2025 Technology Showcase where Broadfield will exhibiting with LiveU and Vizrt! \n\n\nFor the last 25+ years\, Digital Resources\, Inc. (DRI) has been offering spot-on advice and first-class support in a challenging technology industry. As a leading Audio\, Video\, Lighting and AV-IT technology company\, DRI put together this local event to bring you our products\, solutions and services from many of our well-known industry leading manufacturer partners. These representatives will be showing off the latest equipment\, software and services available in our industry \n\n\n\n\n\nREGISTER HERE!\n\n\n\n\n\n\nAs an industry leader\, you will appreciate the vast amount of information and education in a local event like this. This DRI show takes pieces of industry shows like Infocomm\, NAB and or LDI and brings it here for you\, your team and anyone that you know that will benefit from this to stay competitive and relevant.
URL:https://news.broadfield.com/event/digital-resources-inc-2025-technology-showcase/
LOCATION:College Park Center at The University of Texas at Arlington\, 600 S Center St\, Arlington\, TX\, 76019\, United States
ATTACH;FMTTYPE=image/png:https://news.broadfield.com/wp-content/uploads/2024/12/25th_DRI-logo.png
END:VEVENT
END:VCALENDAR