BEGIN:VCALENDAR
VERSION:2.0
PRODID:-//BROADFIELD NEWS - ECPv6.15.20//NONSGML v1.0//EN
CALSCALE:GREGORIAN
METHOD:PUBLISH
X-ORIGINAL-URL:https://news.broadfield.com
X-WR-CALDESC:Events for BROADFIELD NEWS
REFRESH-INTERVAL;VALUE=DURATION:PT1H
X-Robots-Tag:noindex
X-PUBLISHED-TTL:PT1H
BEGIN:VTIMEZONE
TZID:America/North_Dakota/Center
BEGIN:DAYLIGHT
TZOFFSETFROM:-0600
TZOFFSETTO:-0500
TZNAME:CDT
DTSTART:20250309T080000
END:DAYLIGHT
BEGIN:STANDARD
TZOFFSETFROM:-0500
TZOFFSETTO:-0600
TZNAME:CST
DTSTART:20251102T070000
END:STANDARD
BEGIN:DAYLIGHT
TZOFFSETFROM:-0600
TZOFFSETTO:-0500
TZNAME:CDT
DTSTART:20260308T080000
END:DAYLIGHT
BEGIN:STANDARD
TZOFFSETFROM:-0500
TZOFFSETTO:-0600
TZNAME:CST
DTSTART:20261101T070000
END:STANDARD
BEGIN:DAYLIGHT
TZOFFSETFROM:-0600
TZOFFSETTO:-0500
TZNAME:CDT
DTSTART:20270314T080000
END:DAYLIGHT
BEGIN:STANDARD
TZOFFSETFROM:-0500
TZOFFSETTO:-0600
TZNAME:CST
DTSTART:20271107T070000
END:STANDARD
END:VTIMEZONE
BEGIN:VEVENT
DTSTART;TZID=America/North_Dakota/Center:20260218T080000
DTEND;TZID=America/North_Dakota/Center:20260218T170000
DTSTAMP:20260423T162910
CREATED:20251229T182755Z
LAST-MODIFIED:20251229T182755Z
UID:34262-1771401600-1771434000@news.broadfield.com
SUMMARY:DRI Technology Showcase 2026
DESCRIPTION:For the last 25+ years\, Digital Resources\, Inc. (DRI) has been offering spot-on advice and first-class support in a challenging technology industry. As a leading Audio\, Video\, Lighting and AV-IT technology company\, DRI put together this local event to bring you their products\, solutions and services from many of our well-known industry leading manufacturer partners. These representatives including LiveU and Vizrt will be showing off the latest equipment\, software and services available in our industry \nThis DRI show takes pieces of industry shows like Infocomm\, NAB and or LDI and brings it here for you\, your team and anyone that you know that will benefit from this to stay competitive and relevant. \nLEARN MORE HERE!
URL:https://news.broadfield.com/event/dri-technology-showcase-2026/
LOCATION:College Park Center at The University of Texas at Arlington\, 600 S Center St\, Arlington\, TX\, 76019\, United States
ATTACH;FMTTYPE=image/webp:https://news.broadfield.com/wp-content/uploads/2025/12/DRI-Rack-Panel-768x512.jpg.webp
END:VEVENT
END:VCALENDAR