BEGIN:VCALENDAR
VERSION:2.0
PRODID:-//BROADFIELD NEWS - ECPv6.15.20//NONSGML v1.0//EN
CALSCALE:GREGORIAN
METHOD:PUBLISH
X-WR-CALNAME:BROADFIELD NEWS
X-ORIGINAL-URL:https://news.broadfield.com
X-WR-CALDESC:Events for BROADFIELD NEWS
REFRESH-INTERVAL;VALUE=DURATION:PT1H
X-Robots-Tag:noindex
X-PUBLISHED-TTL:PT1H
BEGIN:VTIMEZONE
TZID:America/New_York
BEGIN:DAYLIGHT
TZOFFSETFROM:-0500
TZOFFSETTO:-0400
TZNAME:EDT
DTSTART:20220313T070000
END:DAYLIGHT
BEGIN:STANDARD
TZOFFSETFROM:-0400
TZOFFSETTO:-0500
TZNAME:EST
DTSTART:20221106T060000
END:STANDARD
BEGIN:DAYLIGHT
TZOFFSETFROM:-0500
TZOFFSETTO:-0400
TZNAME:EDT
DTSTART:20230312T070000
END:DAYLIGHT
BEGIN:STANDARD
TZOFFSETFROM:-0400
TZOFFSETTO:-0500
TZNAME:EST
DTSTART:20231105T060000
END:STANDARD
BEGIN:DAYLIGHT
TZOFFSETFROM:-0500
TZOFFSETTO:-0400
TZNAME:EDT
DTSTART:20240310T070000
END:DAYLIGHT
BEGIN:STANDARD
TZOFFSETFROM:-0400
TZOFFSETTO:-0500
TZNAME:EST
DTSTART:20241103T060000
END:STANDARD
END:VTIMEZONE
BEGIN:VEVENT
DTSTART;TZID=America/New_York:20230523T083000
DTEND;TZID=America/New_York:20230523T160000
DTSTAMP:20260425T235221
CREATED:20230425T151231Z
LAST-MODIFIED:20230512T181931Z
UID:25275-1684830600-1684857600@news.broadfield.com
SUMMARY:DVG Integral Prime 2023
DESCRIPTION:DVG will be hosting the Integral Prime Symposium Tuesday May 23rd 2023! This event will include workshops\, networking\, and hands on product demonstrations. See the latest in broadcast and production solutions from over 35 of the top manufactures in our industry! Seminars with guest speakers will be covering a number of topics ranging from 4K to video over IP. \n\nHands-on product demonstations\nTechnology Seminars by industry leaders\nMeet with DVG’s Broadcast Design Team about your next project\nLunch provided at no charge if you register by May 5th\, 2023\n\nREGISTER HERE \n  \n \n 
URL:https://news.broadfield.com/event/dvg-integral-prime-2023/
LOCATION:Virginia Crossings Hotel & Conference Center\, Tapestry Collection by Hilton\, 1000 Virginia Center Pkwy\, Glen Allen\, VA\, 23059\, United States
ATTACH;FMTTYPE=image/png:https://news.broadfield.com/wp-content/uploads/2023/04/Intprime2023.png
END:VEVENT
END:VCALENDAR