BEGIN:VCALENDAR
VERSION:2.0
PRODID:-//BROADFIELD NEWS - ECPv6.15.20//NONSGML v1.0//EN
CALSCALE:GREGORIAN
METHOD:PUBLISH
X-ORIGINAL-URL:https://news.broadfield.com
X-WR-CALDESC:Events for BROADFIELD NEWS
REFRESH-INTERVAL;VALUE=DURATION:PT1H
X-Robots-Tag:noindex
X-PUBLISHED-TTL:PT1H
BEGIN:VTIMEZONE
TZID:America/New_York
BEGIN:DAYLIGHT
TZOFFSETFROM:-0500
TZOFFSETTO:-0400
TZNAME:EDT
DTSTART:20250309T070000
END:DAYLIGHT
BEGIN:STANDARD
TZOFFSETFROM:-0400
TZOFFSETTO:-0500
TZNAME:EST
DTSTART:20251102T060000
END:STANDARD
BEGIN:DAYLIGHT
TZOFFSETFROM:-0500
TZOFFSETTO:-0400
TZNAME:EDT
DTSTART:20260308T070000
END:DAYLIGHT
BEGIN:STANDARD
TZOFFSETFROM:-0400
TZOFFSETTO:-0500
TZNAME:EST
DTSTART:20261101T060000
END:STANDARD
BEGIN:DAYLIGHT
TZOFFSETFROM:-0500
TZOFFSETTO:-0400
TZNAME:EDT
DTSTART:20270314T070000
END:DAYLIGHT
BEGIN:STANDARD
TZOFFSETFROM:-0400
TZOFFSETTO:-0500
TZNAME:EST
DTSTART:20271107T060000
END:STANDARD
END:VTIMEZONE
BEGIN:VEVENT
DTSTART;TZID=America/New_York:20260519T083000
DTEND;TZID=America/New_York:20260519T160000
DTSTAMP:20260423T182527
CREATED:20260223T153505Z
LAST-MODIFIED:20260317T141323Z
UID:34768-1779179400-1779206400@news.broadfield.com
SUMMARY:DVG Integral PRIME 2026
DESCRIPTION:Broadfield will be exhibiting at the 2026 DVG Integral Prime show in Glen Allen\, Virigina. We will be displaying workflows from Avid\, BirdDog Kiloview\, NETGEAR\, PTZOptics\, and Turtle AV. \n This event will include workshops\, networking\, and hands on product demonstrations. See the latest in broadcast and production solutions from over 40 of the top manufactures in our industry!  Seminars with guest speakers will be covering a number of topics ranging from 4K to video. \nWhen:\nTuesday May 19th\, 2026\n8:30am-4pm \nWhere:\nVirginia Crossings Hotel & Conference Center\nTapestry Collection by Hilton\n1000 Virginia Center Pkwy\nGlen Allen\, VA 23059 \n  \nLearn more HERE \n 
URL:https://news.broadfield.com/event/dvg-integral-prime-2026/
LOCATION:Virginia Crossings Hotel & Conference Center\, Tapestry Collection by Hilton\, 1000 Virginia Center Pkwy\, Glen Allen\, VA\, 23059\, United States
ATTACH;FMTTYPE=image/png:https://news.broadfield.com/wp-content/uploads/2026/02/IP-2026.png
END:VEVENT
END:VCALENDAR