BEGIN:VCALENDAR
VERSION:2.0
PRODID:-//BROADFIELD NEWS - ECPv6.15.20//NONSGML v1.0//EN
CALSCALE:GREGORIAN
METHOD:PUBLISH
X-WR-CALNAME:BROADFIELD NEWS
X-ORIGINAL-URL:https://news.broadfield.com
X-WR-CALDESC:Events for BROADFIELD NEWS
REFRESH-INTERVAL;VALUE=DURATION:PT1H
X-Robots-Tag:noindex
X-PUBLISHED-TTL:PT1H
BEGIN:VTIMEZONE
TZID:America/New_York
BEGIN:DAYLIGHT
TZOFFSETFROM:-0500
TZOFFSETTO:-0400
TZNAME:EDT
DTSTART:20220313T070000
END:DAYLIGHT
BEGIN:STANDARD
TZOFFSETFROM:-0400
TZOFFSETTO:-0500
TZNAME:EST
DTSTART:20221106T060000
END:STANDARD
BEGIN:DAYLIGHT
TZOFFSETFROM:-0500
TZOFFSETTO:-0400
TZNAME:EDT
DTSTART:20230312T070000
END:DAYLIGHT
BEGIN:STANDARD
TZOFFSETFROM:-0400
TZOFFSETTO:-0500
TZNAME:EST
DTSTART:20231105T060000
END:STANDARD
BEGIN:DAYLIGHT
TZOFFSETFROM:-0500
TZOFFSETTO:-0400
TZNAME:EDT
DTSTART:20240310T070000
END:DAYLIGHT
BEGIN:STANDARD
TZOFFSETFROM:-0400
TZOFFSETTO:-0500
TZNAME:EST
DTSTART:20241103T060000
END:STANDARD
END:VTIMEZONE
BEGIN:VEVENT
DTSTART;TZID=America/New_York:20230809T130000
DTEND;TZID=America/New_York:20230809T140000
DTSTAMP:20260425T171812
CREATED:20230727T131643Z
LAST-MODIFIED:20230727T131643Z
UID:26144-1691586000-1691589600@news.broadfield.com
SUMMARY:Interactive Epiphan Demo: Unlock enhanced video with new graphics and presets for Pearl
DESCRIPTION:Ready to level-up your video content? Achieve a pro-broadcast more easily with plug-n-play layout presets\, media playback\, and graphics from uno. \nDuring this live event\, you’ll discover: \n\nThe power of presets for enhanced video\nNew plug-n-play layouts and media playback\nGraphics made easy with Uno Overlays\n\nSAVE YOUR SPOT HERE! \nTap into the insights of industry experts\, ask questions\, and gain practical knowledge that will take your video content to new heights. \nUncover the hidden potential of your video content\nLearn how to elevate your video content\, using tools designed for immediate impact and effortless integration. \nDiscover the power of presets\nElevate your video content instantly with our new user-friendly\, ready made presets. \nLayouts\nPlug-n-play layouts and media playback\nTransform routine meetings and events into captivating TV broadcast-like experiences. \nGraphics\nGraphics made easy with Uno Overlays\nSeamlessly infuse your video with pro quality graphics. With uno\, creating a polished visual impact is a breeze.
URL:https://news.broadfield.com/event/interactive-epiphan-demo-unlock-enhanced-video-with-new-graphics-and-presets-for-pearl/
ATTACH;FMTTYPE=image/webp:https://news.broadfield.com/wp-content/uploads/2023/07/easy-mode_email-header.webp
END:VEVENT
END:VCALENDAR