BEGIN:VCALENDAR
VERSION:2.0
PRODID:-//BROADFIELD NEWS - ECPv6.15.20//NONSGML v1.0//EN
CALSCALE:GREGORIAN
METHOD:PUBLISH
X-ORIGINAL-URL:https://news.broadfield.com
X-WR-CALDESC:Events for BROADFIELD NEWS
REFRESH-INTERVAL;VALUE=DURATION:PT1H
X-Robots-Tag:noindex
X-PUBLISHED-TTL:PT1H
BEGIN:VTIMEZONE
TZID:America/New_York
BEGIN:DAYLIGHT
TZOFFSETFROM:-0500
TZOFFSETTO:-0400
TZNAME:EDT
DTSTART:20220313T070000
END:DAYLIGHT
BEGIN:STANDARD
TZOFFSETFROM:-0400
TZOFFSETTO:-0500
TZNAME:EST
DTSTART:20221106T060000
END:STANDARD
BEGIN:DAYLIGHT
TZOFFSETFROM:-0500
TZOFFSETTO:-0400
TZNAME:EDT
DTSTART:20230312T070000
END:DAYLIGHT
BEGIN:STANDARD
TZOFFSETFROM:-0400
TZOFFSETTO:-0500
TZNAME:EST
DTSTART:20231105T060000
END:STANDARD
BEGIN:DAYLIGHT
TZOFFSETFROM:-0500
TZOFFSETTO:-0400
TZNAME:EDT
DTSTART:20240310T070000
END:DAYLIGHT
BEGIN:STANDARD
TZOFFSETFROM:-0400
TZOFFSETTO:-0500
TZNAME:EST
DTSTART:20241103T060000
END:STANDARD
END:VTIMEZONE
BEGIN:VEVENT
DTSTART;TZID=America/New_York:20231205T120000
DTEND;TZID=America/New_York:20231205T130000
DTSTAMP:20260425T101440
CREATED:20231109T212024Z
LAST-MODIFIED:20231109T212024Z
UID:26965-1701777600-1701781200@news.broadfield.com
SUMMARY:Epiphan’s automated future unveiled
DESCRIPTION:Join Epiphan for the live unveiling of their newest features that simplify video capture\, streaming\, and recording on December 5th at 12pm EST. \nSIGN UP HERE! \nYour expert hosts\nOur expert hosts will help you see the power of automation\, with real world examples\, including Q&A \n\nDan Wallace\nDan Wallace is Epiphan’s Director of Creative Services. He brings over 15 years experience as a creative professional specializing in video and production workflows.\nNic Milani – Video innovation specialist\, Epiphan Video\nAn insightful and visionary leader\, Nic brings a track record of transformative leadership in a variety of industries\, and a deep understanding of opportunities and challenges in workplace technology development\nGeorge Birchall\nAfter a decade of living dangerously in the live-event space\, George has seen the best and worst of live content. His experience leading the Marketing team at Epiphan make him trusted source when it comes to creating video experiences.
URL:https://news.broadfield.com/event/epiphans-automated-future-unveiled/
ATTACH;FMTTYPE=image/jpeg:https://news.broadfield.com/wp-content/uploads/2023/11/1699538401838.jpg
END:VEVENT
END:VCALENDAR