BEGIN:VCALENDAR
VERSION:2.0
PRODID:-//BROADFIELD NEWS - ECPv6.15.20//NONSGML v1.0//EN
CALSCALE:GREGORIAN
METHOD:PUBLISH
X-WR-CALNAME:BROADFIELD NEWS
X-ORIGINAL-URL:https://news.broadfield.com
X-WR-CALDESC:Events for BROADFIELD NEWS
REFRESH-INTERVAL;VALUE=DURATION:PT1H
X-Robots-Tag:noindex
X-PUBLISHED-TTL:PT1H
BEGIN:VTIMEZONE
TZID:America/New_York
BEGIN:DAYLIGHT
TZOFFSETFROM:-0500
TZOFFSETTO:-0400
TZNAME:EDT
DTSTART:20220313T070000
END:DAYLIGHT
BEGIN:STANDARD
TZOFFSETFROM:-0400
TZOFFSETTO:-0500
TZNAME:EST
DTSTART:20221106T060000
END:STANDARD
BEGIN:DAYLIGHT
TZOFFSETFROM:-0500
TZOFFSETTO:-0400
TZNAME:EDT
DTSTART:20230312T070000
END:DAYLIGHT
BEGIN:STANDARD
TZOFFSETFROM:-0400
TZOFFSETTO:-0500
TZNAME:EST
DTSTART:20231105T060000
END:STANDARD
BEGIN:DAYLIGHT
TZOFFSETFROM:-0500
TZOFFSETTO:-0400
TZNAME:EDT
DTSTART:20240310T070000
END:DAYLIGHT
BEGIN:STANDARD
TZOFFSETFROM:-0400
TZOFFSETTO:-0500
TZNAME:EST
DTSTART:20241103T060000
END:STANDARD
END:VTIMEZONE
BEGIN:VEVENT
DTSTART;TZID=America/New_York:20230927T120000
DTEND;TZID=America/New_York:20230927T130000
DTSTAMP:20260425T172309
CREATED:20230926T152545Z
LAST-MODIFIED:20230926T152545Z
UID:26516-1695816000-1695819600@news.broadfield.com
SUMMARY:Easy mode: level up Microsoft Teams for high-impact events
DESCRIPTION:Learn how to leverage your investment in Teams to give everyone in your organization the simplest solution for creating high-impact video experiences – without the complexity or cost of a video crew. \n\nTransform Teams Rooms into professional studios\nMake high-impact events accessible to everyone on your team\nSee the 5 minute event setup with Epiphan’s toolkit\n\n  \nREGISTER HERE \n  \nYour expert hosts\nOur expert host will take you on an in-depth tour of this exciting new system and answer your questions live. \nPeter Hass – Customer Success Manager\, Microsoft\nA specialist in leveraging video technology to enhance customer experiences\, Peter focuses on webcasting live events through platforms like Microsoft Teams. He excels in deploying AV + IT infrastructure to simplify complex projects and workflows. \nJimmy Vaughan – Partner Technical Specialist\, Microsoft\nRecognized in both the Information Technology and Audio-Visual Integration fields\, Jimmy maintains both Microsoft MVP and Crestron Master programmer status. Jimmy has led technical instruction at Crestron Masters and Microsoft Ignite. \nNic Milani – Video innovation specialist\, Epiphan Video\nAn insightful and visionary leader\, Nic brings a track record of transformative leadership in a variety of industries\, and a deep understanding of opportunities and challenges in workplace technology development.
URL:https://news.broadfield.com/event/easy-mode-level-up-microsoft-teams-for-high-impact-events/
ATTACH;FMTTYPE=image/png:https://news.broadfield.com/wp-content/uploads/2023/09/msft-easy-mode_Hero_2-768x665-1.png
END:VEVENT
END:VCALENDAR