BEGIN:VCALENDAR
VERSION:2.0
PRODID:-//BROADFIELD NEWS - ECPv6.15.20//NONSGML v1.0//EN
CALSCALE:GREGORIAN
METHOD:PUBLISH
X-WR-CALNAME:BROADFIELD NEWS
X-ORIGINAL-URL:https://news.broadfield.com
X-WR-CALDESC:Events for BROADFIELD NEWS
REFRESH-INTERVAL;VALUE=DURATION:PT1H
X-Robots-Tag:noindex
X-PUBLISHED-TTL:PT1H
BEGIN:VTIMEZONE
TZID:America/New_York
BEGIN:DAYLIGHT
TZOFFSETFROM:-0500
TZOFFSETTO:-0400
TZNAME:EDT
DTSTART:20250309T070000
END:DAYLIGHT
BEGIN:STANDARD
TZOFFSETFROM:-0400
TZOFFSETTO:-0500
TZNAME:EST
DTSTART:20251102T060000
END:STANDARD
BEGIN:DAYLIGHT
TZOFFSETFROM:-0500
TZOFFSETTO:-0400
TZNAME:EDT
DTSTART:20260308T070000
END:DAYLIGHT
BEGIN:STANDARD
TZOFFSETFROM:-0400
TZOFFSETTO:-0500
TZNAME:EST
DTSTART:20261101T060000
END:STANDARD
BEGIN:DAYLIGHT
TZOFFSETFROM:-0500
TZOFFSETTO:-0400
TZNAME:EDT
DTSTART:20270314T070000
END:DAYLIGHT
BEGIN:STANDARD
TZOFFSETFROM:-0400
TZOFFSETTO:-0500
TZNAME:EST
DTSTART:20271107T060000
END:STANDARD
END:VTIMEZONE
BEGIN:VEVENT
DTSTART;TZID=America/New_York:20260402T140000
DTEND;TZID=America/New_York:20260402T150000
DTSTAMP:20260423T121701
CREATED:20260312T162048Z
LAST-MODIFIED:20260312T162048Z
UID:34996-1775138400-1775142000@news.broadfield.com
SUMMARY:From expansion to optimization: Where campus video goes next
DESCRIPTION:Many institutions have made significant investments in classroom video\, yet a common challenge remains: how to fully leverage the infrastructure already in place. Join this year’s Symposium from Epiphan as AV professionals discuss the next phase of campus video: improving adoption\, streamlining workflows\, and delivering more value from existing learning spaces. \nSAVE YOUR SPOT HERE! \nWhat you’ll learn:  \nClosing the utilization gap\nExplore key findings from the latest higher ed video survey and discuss why many institutions are still working to maximize the use of their video-enabled spaces. \nDoing more with available budgets\nWith budgets tightening at some institutions and holding steady at others\, learn practical approaches to delivering value from your existing AV infrastructure \nEngage in the conversation\nJoin an open discussion with higher ed AV professionals and bring your questions about adoption\, workflows\, and the future of campus video.
URL:https://news.broadfield.com/event/from-expansion-to-optimization-where-campus-video-goes-next/
ATTACH;FMTTYPE=image/png:https://news.broadfield.com/wp-content/uploads/2026/03/Screenshot-2026-03-12-122029.png
END:VEVENT
END:VCALENDAR