BEGIN:VCALENDAR
VERSION:2.0
PRODID:-//BROADFIELD NEWS - ECPv6.15.20//NONSGML v1.0//EN
CALSCALE:GREGORIAN
METHOD:PUBLISH
X-ORIGINAL-URL:https://news.broadfield.com
X-WR-CALDESC:Events for BROADFIELD NEWS
REFRESH-INTERVAL;VALUE=DURATION:PT1H
X-Robots-Tag:noindex
X-PUBLISHED-TTL:PT1H
BEGIN:VTIMEZONE
TZID:America/New_York
BEGIN:DAYLIGHT
TZOFFSETFROM:-0500
TZOFFSETTO:-0400
TZNAME:EDT
DTSTART:20250309T070000
END:DAYLIGHT
BEGIN:STANDARD
TZOFFSETFROM:-0400
TZOFFSETTO:-0500
TZNAME:EST
DTSTART:20251102T060000
END:STANDARD
BEGIN:DAYLIGHT
TZOFFSETFROM:-0500
TZOFFSETTO:-0400
TZNAME:EDT
DTSTART:20260308T070000
END:DAYLIGHT
BEGIN:STANDARD
TZOFFSETFROM:-0400
TZOFFSETTO:-0500
TZNAME:EST
DTSTART:20261101T060000
END:STANDARD
BEGIN:DAYLIGHT
TZOFFSETFROM:-0500
TZOFFSETTO:-0400
TZNAME:EDT
DTSTART:20270314T070000
END:DAYLIGHT
BEGIN:STANDARD
TZOFFSETFROM:-0400
TZOFFSETTO:-0500
TZNAME:EST
DTSTART:20271107T060000
END:STANDARD
END:VTIMEZONE
BEGIN:VEVENT
DTSTART;TZID=America/New_York:20260428T120000
DTEND;TZID=America/New_York:20260428T130000
DTSTAMP:20260425T140150
CREATED:20260424T152442Z
LAST-MODIFIED:20260424T152442Z
UID:35615-1777377600-1777381200@news.broadfield.com
SUMMARY:LiveU House of Worship Webinar
DESCRIPTION:LiveU for House of Worship\nYour congregation doesn’t stop at the church doors. Members travel\, missionaries serve abroad\, families watch from home and yet they all want to stay connected to worship and their community. LiveU helps ministries share their message live\, reliably\, and beautifully from anywhere and everywhere. \nRegister Now for LiveU HoW Webinar\nTuesday\, April 28th\, 2026 at 12 noon EST\nSpeaker: Troy Braghini \nREGISTER HERE\n“I’ve been working with various faith communities and noticing how vital a reliable online presence has become for staying connected with members. Many houses of worship struggle with technical “hiccups” or a video quality that doesn’t quite reflect the heart of their service. Here at LiveU we specialize in a premium solution designed for those who want a professional\, TV-quality broadcast without needing a degree in engineering to run it. \nThe value LiveU brings is in its simplicity and rock-solid reliability: \n\n“Unbreakable” Connectivity: Uses bonded cellular technology to combine multiple internet sources (like cell signals and Wi-Fi)\, so your stream never drops.\nGlobal Remote Contributions: Easily bring in live\, high-quality video from missionaries or remote ministries in foreign countries or even from just down the road. Plus be able to contribute form off-grid locations with limited internet.\nVolunteer-Friendly: It handles the heavy technical lifting automatically\, allowing your team to focus on the service rather than the gear.\n\nI’d love to pair you up with one of our regional managers to share how we’ve helped other ministries move from “basic streaming” to a premium viewer experience that reaches people both locally and globally.” -Troy Braghini \nWhat You Can Do Using LiveU\nReach Your Global Community\nShare services\, sermons\, and special events with members at home\, traveling\, or serving abroad. \nConnect Ministries in Real Time\nBring missionary updates\, partner churches\, and global outreach directly into weekend services. \nUnite Multi-Campus Churches\nDeliver one unified worship experience across multiple locations \nBroadcast with Confidence\nStable\, high-quality video even when networks are unreliable. \nLiveU supports ministries of every size\, from small churches beginning their streaming journey to growing congregations\, multi-campus ministries\, and global missionary organizations. \nWhether sharing weekly services\, bringing live updates from missionaries into worship\, broadcasting special events\, or connecting multiple locations into one unified experience\, LiveU helps churches reach their community anywhere in the world with reliable\, high-quality\, live video.
URL:https://news.broadfield.com/event/liveu-house-of-worship-webinar/
ATTACH;FMTTYPE=image/webp:https://news.broadfield.com/wp-content/uploads/2026/04/liveuwebinar-1.webp
END:VEVENT
END:VCALENDAR