BEGIN:VCALENDAR
VERSION:2.0
PRODID:-//BROADFIELD NEWS - ECPv6.15.20//NONSGML v1.0//EN
CALSCALE:GREGORIAN
METHOD:PUBLISH
X-ORIGINAL-URL:https://news.broadfield.com
X-WR-CALDESC:Events for BROADFIELD NEWS
REFRESH-INTERVAL;VALUE=DURATION:PT1H
X-Robots-Tag:noindex
X-PUBLISHED-TTL:PT1H
BEGIN:VTIMEZONE
TZID:Europe/Amsterdam
BEGIN:DAYLIGHT
TZOFFSETFROM:+0100
TZOFFSETTO:+0200
TZNAME:CEST
DTSTART:20230326T010000
END:DAYLIGHT
BEGIN:STANDARD
TZOFFSETFROM:+0200
TZOFFSETTO:+0100
TZNAME:CET
DTSTART:20231029T010000
END:STANDARD
BEGIN:DAYLIGHT
TZOFFSETFROM:+0100
TZOFFSETTO:+0200
TZNAME:CEST
DTSTART:20240331T010000
END:DAYLIGHT
BEGIN:STANDARD
TZOFFSETFROM:+0200
TZOFFSETTO:+0100
TZNAME:CET
DTSTART:20241027T010000
END:STANDARD
BEGIN:DAYLIGHT
TZOFFSETFROM:+0100
TZOFFSETTO:+0200
TZNAME:CEST
DTSTART:20250330T010000
END:DAYLIGHT
BEGIN:STANDARD
TZOFFSETFROM:+0200
TZOFFSETTO:+0100
TZNAME:CET
DTSTART:20251026T010000
END:STANDARD
END:VTIMEZONE
BEGIN:VEVENT
DTSTART;TZID=Europe/Amsterdam:20240913T103000
DTEND;TZID=Europe/Amsterdam:20240916T160000
DTSTAMP:20260424T214021
CREATED:20240807T133203Z
LAST-MODIFIED:20240807T133629Z
UID:29332-1726223400-1726502400@news.broadfield.com
SUMMARY:IBC 2024
DESCRIPTION:Delivering innovation and connecting communities\, IBC2024 is where the future of the global media and entertainment industry is redefined. Energising the market\, enabling content everywhere\, and exploring new trends\, IBC brings together the creative\, technology and business communities to collaborate\, learn and unlock new opportunities. \nJoin over 43\,000 broadcasters\, content owners\, rights holders and service providers this September.  \nREGISTER HERE!
URL:https://news.broadfield.com/event/ibc-2024/
LOCATION:Amsterdam RAI Europaplein 1078 GZ Amsterdam\, Netherlands\, Amsterdam RAI Europaplein\, 1078 GZ Amsterdam\, Netherlands\, Amsterdam\, Netherlands
ATTACH;FMTTYPE=image/png:https://news.broadfield.com/wp-content/uploads/2024/08/441531470_867727795397272_3496434642514469651_n.png
END:VEVENT
END:VCALENDAR