BEGIN:VCALENDAR
VERSION:2.0
PRODID:-//BROADFIELD NEWS - ECPv6.15.20//NONSGML v1.0//EN
CALSCALE:GREGORIAN
METHOD:PUBLISH
X-WR-CALNAME:BROADFIELD NEWS
X-ORIGINAL-URL:https://news.broadfield.com
X-WR-CALDESC:Events for BROADFIELD NEWS
REFRESH-INTERVAL;VALUE=DURATION:PT1H
X-Robots-Tag:noindex
X-PUBLISHED-TTL:PT1H
BEGIN:VTIMEZONE
TZID:America/New_York
BEGIN:DAYLIGHT
TZOFFSETFROM:-0500
TZOFFSETTO:-0400
TZNAME:EDT
DTSTART:20220313T070000
END:DAYLIGHT
BEGIN:STANDARD
TZOFFSETFROM:-0400
TZOFFSETTO:-0500
TZNAME:EST
DTSTART:20221106T060000
END:STANDARD
BEGIN:DAYLIGHT
TZOFFSETFROM:-0500
TZOFFSETTO:-0400
TZNAME:EDT
DTSTART:20230312T070000
END:DAYLIGHT
BEGIN:STANDARD
TZOFFSETFROM:-0400
TZOFFSETTO:-0500
TZNAME:EST
DTSTART:20231105T060000
END:STANDARD
BEGIN:DAYLIGHT
TZOFFSETFROM:-0500
TZOFFSETTO:-0400
TZNAME:EDT
DTSTART:20240310T070000
END:DAYLIGHT
BEGIN:STANDARD
TZOFFSETFROM:-0400
TZOFFSETTO:-0500
TZNAME:EST
DTSTART:20241103T060000
END:STANDARD
END:VTIMEZONE
BEGIN:VEVENT
DTSTART;TZID=America/New_York:20230614T090000
DTEND;TZID=America/New_York:20230616T160000
DTSTAMP:20260425T234949
CREATED:20230510T141210Z
LAST-MODIFIED:20230605T203719Z
UID:25421-1686733200-1686931200@news.broadfield.com
SUMMARY:InfoComm 2023
DESCRIPTION:Visit us at booth 2669 at InfoComm 2023 in Orlando Florida. Our booth will be joined by Atomos\, Kiloview\, NewTek\, PTZOptics\, NDI\, RED Digital Cinema\, MRMC & Advanced Image Robotics \nRegister with our code for a free exhibit hall guest: BRO490 at https://www.infocommshow.org/
URL:https://news.broadfield.com/event/infocomm-2023/
LOCATION:ORANGE COUNTY CONVENTION CENTER\, 9800 International Drive\, Orlando\, FL\, 32819\, United States
ATTACH;FMTTYPE=image/png:https://news.broadfield.com/wp-content/uploads/2023/05/infocomm.png
END:VEVENT
END:VCALENDAR