BEGIN:VCALENDAR
VERSION:2.0
PRODID:-//BROADFIELD NEWS - ECPv6.15.20//NONSGML v1.0//EN
CALSCALE:GREGORIAN
METHOD:PUBLISH
X-WR-CALNAME:BROADFIELD NEWS
X-ORIGINAL-URL:https://news.broadfield.com
X-WR-CALDESC:Events for BROADFIELD NEWS
REFRESH-INTERVAL;VALUE=DURATION:PT1H
X-Robots-Tag:noindex
X-PUBLISHED-TTL:PT1H
BEGIN:VTIMEZONE
TZID:Europe/Paris
BEGIN:DAYLIGHT
TZOFFSETFROM:+0100
TZOFFSETTO:+0200
TZNAME:CEST
DTSTART:20250330T010000
END:DAYLIGHT
BEGIN:STANDARD
TZOFFSETFROM:+0200
TZOFFSETTO:+0100
TZNAME:CET
DTSTART:20251026T010000
END:STANDARD
BEGIN:DAYLIGHT
TZOFFSETFROM:+0100
TZOFFSETTO:+0200
TZNAME:CEST
DTSTART:20260329T010000
END:DAYLIGHT
BEGIN:STANDARD
TZOFFSETFROM:+0200
TZOFFSETTO:+0100
TZNAME:CET
DTSTART:20261025T010000
END:STANDARD
BEGIN:DAYLIGHT
TZOFFSETFROM:+0100
TZOFFSETTO:+0200
TZNAME:CEST
DTSTART:20270328T010000
END:DAYLIGHT
BEGIN:STANDARD
TZOFFSETFROM:+0200
TZOFFSETTO:+0100
TZNAME:CET
DTSTART:20271031T010000
END:STANDARD
END:VTIMEZONE
BEGIN:VEVENT
DTSTART;TZID=Europe/Paris:20260203T080000
DTEND;TZID=Europe/Paris:20260206T170000
DTSTAMP:20260423T145729
CREATED:20260128T175339Z
LAST-MODIFIED:20260128T175339Z
UID:34506-1770105600-1770397200@news.broadfield.com
SUMMARY:ISE 2026
DESCRIPTION:The world-renowned annual tech show for the systems integration and audiovisual industry is taking place in Barcelon on February 3-6 at the Fira Barcelona. \nThe industry turns to ISE for the inspiration and motivation required to drive things forward. At the four-day event each February\, our attendees reconnect with virtually impossible experiences\, with networking opportunities\, state-of-the-art technology\, and their own career development.  \nSince the first ISE in 2004\, the event has grown year-on-year. In 2025\, we hosted over 1\,600 exhibitors (with countless new product launches) and our attendees made over 185\,700 visits to the show.
URL:https://news.broadfield.com/event/ise-2026/
LOCATION:Fira Barcelona\, Gran Via Venue Av. Joan Carles I\, 64\, L’Hospitalet de Llobregat\, Barcelona\, 08908\, Spain
ATTACH;FMTTYPE=image/jpeg:https://news.broadfield.com/wp-content/uploads/2026/01/616099596_1464431712353768_5044849078638658494_n.jpg
END:VEVENT
END:VCALENDAR