BEGIN:VCALENDAR
VERSION:2.0
PRODID:-//BROADFIELD NEWS - ECPv6.15.20//NONSGML v1.0//EN
CALSCALE:GREGORIAN
METHOD:PUBLISH
X-ORIGINAL-URL:https://news.broadfield.com
X-WR-CALDESC:Events for BROADFIELD NEWS
REFRESH-INTERVAL;VALUE=DURATION:PT1H
X-Robots-Tag:noindex
X-PUBLISHED-TTL:PT1H
BEGIN:VTIMEZONE
TZID:America/New_York
BEGIN:DAYLIGHT
TZOFFSETFROM:-0500
TZOFFSETTO:-0400
TZNAME:EDT
DTSTART:20250309T070000
END:DAYLIGHT
BEGIN:STANDARD
TZOFFSETFROM:-0400
TZOFFSETTO:-0500
TZNAME:EST
DTSTART:20251102T060000
END:STANDARD
BEGIN:DAYLIGHT
TZOFFSETFROM:-0500
TZOFFSETTO:-0400
TZNAME:EDT
DTSTART:20260308T070000
END:DAYLIGHT
BEGIN:STANDARD
TZOFFSETFROM:-0400
TZOFFSETTO:-0500
TZNAME:EST
DTSTART:20261101T060000
END:STANDARD
BEGIN:DAYLIGHT
TZOFFSETFROM:-0500
TZOFFSETTO:-0400
TZNAME:EDT
DTSTART:20270314T070000
END:DAYLIGHT
BEGIN:STANDARD
TZOFFSETFROM:-0400
TZOFFSETTO:-0500
TZNAME:EST
DTSTART:20271107T060000
END:STANDARD
END:VTIMEZONE
BEGIN:VEVENT
DTSTART;TZID=America/New_York:20260311T140000
DTEND;TZID=America/New_York:20260311T150000
DTSTAMP:20260423T145254
CREATED:20260115T164349Z
LAST-MODIFIED:20260116T151129Z
UID:34403-1773237600-1773241200@news.broadfield.com
SUMMARY:NETGEAR: Insight Pro Deep Dive: Scaling from SMB to Enterprise - Mar 11th\, 2026\, at 2:00pm EDT
DESCRIPTION:Join NETGEAR for this month’s episode of their webinar series\, Netgear Enterprise\, on Mar 11th\, 2026\, at 2:00 pm EDT\, and learn how to future-proof your operations. \nIs your business outgrowing your network management tool? Discover how Insight Pro provides the advanced features—multi-tenancy\, API integrations\, and granular security—needed to scale from a small business to a large enterprise without missing a beat. Nat Chidambaram and Fred Rabe will break down how to manage complex\, distributed networks with simplicity and control. \nPresented by Fred Rabe\, NETGEAR Total Network Solution Specialist & Nat Chidambaram\, NETGEAR Sr. Director of Product Management \n\nRegister HERE
URL:https://news.broadfield.com/event/netgear-insight-pro-deep-dive-scaling-from-smb-to-enterprise-mar-11th-2026-at-200pm-edt/
ATTACH;FMTTYPE=image/png:https://news.broadfield.com/wp-content/uploads/2026/01/image_1058868.png
END:VEVENT
END:VCALENDAR