BEGIN:VCALENDAR
VERSION:2.0
PRODID:-//BROADFIELD NEWS - ECPv6.15.20//NONSGML v1.0//EN
CALSCALE:GREGORIAN
METHOD:PUBLISH
X-ORIGINAL-URL:https://news.broadfield.com
X-WR-CALDESC:Events for BROADFIELD NEWS
REFRESH-INTERVAL;VALUE=DURATION:PT1H
X-Robots-Tag:noindex
X-PUBLISHED-TTL:PT1H
BEGIN:VTIMEZONE
TZID:America/New_York
BEGIN:DAYLIGHT
TZOFFSETFROM:-0500
TZOFFSETTO:-0400
TZNAME:EDT
DTSTART:20240310T070000
END:DAYLIGHT
BEGIN:STANDARD
TZOFFSETFROM:-0400
TZOFFSETTO:-0500
TZNAME:EST
DTSTART:20241103T060000
END:STANDARD
BEGIN:DAYLIGHT
TZOFFSETFROM:-0500
TZOFFSETTO:-0400
TZNAME:EDT
DTSTART:20250309T070000
END:DAYLIGHT
BEGIN:STANDARD
TZOFFSETFROM:-0400
TZOFFSETTO:-0500
TZNAME:EST
DTSTART:20251102T060000
END:STANDARD
BEGIN:DAYLIGHT
TZOFFSETFROM:-0500
TZOFFSETTO:-0400
TZNAME:EDT
DTSTART:20260308T070000
END:DAYLIGHT
BEGIN:STANDARD
TZOFFSETFROM:-0400
TZOFFSETTO:-0500
TZNAME:EST
DTSTART:20261101T060000
END:STANDARD
END:VTIMEZONE
BEGIN:VEVENT
DTSTART;TZID=America/New_York:20250416T100000
DTEND;TZID=America/New_York:20250416T170000
DTSTAMP:20260424T104627
CREATED:20250410T154242Z
LAST-MODIFIED:20250410T154242Z
UID:31714-1744797600-1744822800@news.broadfield.com
SUMMARY:LiveU Post-NAB Webinar
DESCRIPTION:Didn’t make it to NAB? No problem\, let LiveU bring the show to you! \nJoin LiveU for this interactive webinar as their senior product managers walk you through everything we showcased at NAB – including LiveU IQ and their complete LiveU EcoSystem. The modular system of best-of-breed components can be deployed and redeployed in a variety of workflows to answer every type of live production challenge. \nDiscover how LiveU’s latest innovations can help you produce more engaging content for less time\, effort and money. \nREGISTER HERE! \n 
URL:https://news.broadfield.com/event/liveu-post-nab-webinar/
ATTACH;FMTTYPE=image/png:https://news.broadfield.com/wp-content/uploads/2025/04/19bb1a7b-frame-2_105c03y000000000000028.png
END:VEVENT
END:VCALENDAR