BEGIN:VCALENDAR
VERSION:2.0
PRODID:-//BROADFIELD NEWS - ECPv6.15.20//NONSGML v1.0//EN
CALSCALE:GREGORIAN
METHOD:PUBLISH
X-WR-CALNAME:BROADFIELD NEWS
X-ORIGINAL-URL:https://news.broadfield.com
X-WR-CALDESC:Events for BROADFIELD NEWS
REFRESH-INTERVAL;VALUE=DURATION:PT1H
X-Robots-Tag:noindex
X-PUBLISHED-TTL:PT1H
BEGIN:VTIMEZONE
TZID:America/New_York
BEGIN:DAYLIGHT
TZOFFSETFROM:-0500
TZOFFSETTO:-0400
TZNAME:EDT
DTSTART:20230312T070000
END:DAYLIGHT
BEGIN:STANDARD
TZOFFSETFROM:-0400
TZOFFSETTO:-0500
TZNAME:EST
DTSTART:20231105T060000
END:STANDARD
BEGIN:DAYLIGHT
TZOFFSETFROM:-0500
TZOFFSETTO:-0400
TZNAME:EDT
DTSTART:20240310T070000
END:DAYLIGHT
BEGIN:STANDARD
TZOFFSETFROM:-0400
TZOFFSETTO:-0500
TZNAME:EST
DTSTART:20241103T060000
END:STANDARD
BEGIN:DAYLIGHT
TZOFFSETFROM:-0500
TZOFFSETTO:-0400
TZNAME:EDT
DTSTART:20250309T070000
END:DAYLIGHT
BEGIN:STANDARD
TZOFFSETFROM:-0400
TZOFFSETTO:-0500
TZNAME:EST
DTSTART:20251102T060000
END:STANDARD
END:VTIMEZONE
BEGIN:VEVENT
DTSTART;TZID=America/New_York:20241009T100000
DTEND;TZID=America/New_York:20241010T170000
DTSTAMP:20260424T193653
CREATED:20240715T181025Z
LAST-MODIFIED:20241007T172814Z
UID:29198-1728468000-1728579600@news.broadfield.com
SUMMARY:NAB NY 2024 - Broadfield Booth #711
DESCRIPTION:We will be exhibiting at the 2024 NAB NY Show where we will be joined by our booth partners Absen\, Atomos\, Avid\, BirdDog\, Canon\, JVC\, Kiloview\, LiveU\, PTZOptis\, Vizrt and more! Stay tuned for our full booth partners. \n  \nRegister for free with our Guest Pass Code: NY7923 here! \nThere’s a city that never sleeps. Where the hum and the energy of daily life beckons with its magnetic pulse. Vibrant. Alive. Palpable. Enter NAB Show New York. Where you’ll join 12K+ content economy professionals in this thriving media capital of the world for culture\, creativity and commerce. \nDrawn to by all in broadcast\, media and entertainment\, NAB Show New York is your access to product discovery\, networking and knowledge. Your time to talk AI\, the creator economy\, virtual production\, FAST\, live production and more. Your chance to ask questions\, make connections and get hands-on…heightened by the sheer volume of media companies\, production houses\, recording studios\, radio stations and industry icons teeming in this town. All here\, waiting for you. \nNAB Show New York is your backstage pass to: \n\nIdentify the opportunities ahead for the evolving broadcast ecosystem]\nDemo the latest tools being used on hot TV and film projects\nConnect with the end-to-end workflow for photography and motion production\nUncover the latest innovations transforming the world of audio and broadcasting\nCollaborate in the city that sets the pace for new advertising techniques and technologies
URL:https://news.broadfield.com/event/nab-ny-2024-broadfield-booth-711/
LOCATION:Javits Center\, 429 11th Ave\, New York\, NY\, 10001\, United States
ATTACH;FMTTYPE=image/png:https://news.broadfield.com/wp-content/uploads/2024/10/landscape-image.png
END:VEVENT
END:VCALENDAR