BEGIN:VCALENDAR
VERSION:2.0
PRODID:-//BROADFIELD NEWS - ECPv6.15.20//NONSGML v1.0//EN
CALSCALE:GREGORIAN
METHOD:PUBLISH
X-ORIGINAL-URL:https://news.broadfield.com
X-WR-CALDESC:Events for BROADFIELD NEWS
REFRESH-INTERVAL;VALUE=DURATION:PT1H
X-Robots-Tag:noindex
X-PUBLISHED-TTL:PT1H
BEGIN:VTIMEZONE
TZID:America/New_York
BEGIN:DAYLIGHT
TZOFFSETFROM:-0500
TZOFFSETTO:-0400
TZNAME:EDT
DTSTART:20240310T070000
END:DAYLIGHT
BEGIN:STANDARD
TZOFFSETFROM:-0400
TZOFFSETTO:-0500
TZNAME:EST
DTSTART:20241103T060000
END:STANDARD
BEGIN:DAYLIGHT
TZOFFSETFROM:-0500
TZOFFSETTO:-0400
TZNAME:EDT
DTSTART:20250309T070000
END:DAYLIGHT
BEGIN:STANDARD
TZOFFSETFROM:-0400
TZOFFSETTO:-0500
TZNAME:EST
DTSTART:20251102T060000
END:STANDARD
BEGIN:DAYLIGHT
TZOFFSETFROM:-0500
TZOFFSETTO:-0400
TZNAME:EDT
DTSTART:20260308T070000
END:DAYLIGHT
BEGIN:STANDARD
TZOFFSETFROM:-0400
TZOFFSETTO:-0500
TZNAME:EST
DTSTART:20261101T060000
END:STANDARD
END:VTIMEZONE
BEGIN:VEVENT
DTSTART;TZID=America/New_York:20250401T110000
DTEND;TZID=America/New_York:20250401T120000
DTSTAMP:20260424T081424
CREATED:20250328T181037Z
LAST-MODIFIED:20250328T181037Z
UID:31339-1743505200-1743508800@news.broadfield.com
SUMMARY:LiveU NAB Preview Webinar
DESCRIPTION:The countdown to NAB 2025 is on! \nWhether you’re attending in person or not\, join LiveU for an exclusive preview of their upcoming showcase and plans. This FREE event is your chance to discover cutting-edge broadcast technologies\, innovative workflows\, and solutions that will transform your business in 2025 and beyond. \nJoin the premier event for media professionals at the Las Vegas Convention Center. Virtual Booth Tour Available. Experience new products and technologies from LiveU\, providing insights into the future of media broadcasting. \nDon’t miss out on these groundbreaking innovations – you’ll want to check this out! \nREGISTER HERE with guest code NS8958
URL:https://news.broadfield.com/event/liveu-nab-preview-webinar/
LOCATION:Zoom Webinar
ATTACH;FMTTYPE=image/png:https://news.broadfield.com/wp-content/uploads/2025/03/Untitled-design-14.png
END:VEVENT
BEGIN:VEVENT
DTSTART;TZID=America/New_York:20250406T100000
DTEND;TZID=America/New_York:20250409T140000
DTSTAMP:20260424T081424
CREATED:20250225T183402Z
LAST-MODIFIED:20250402T205320Z
UID:31033-1743933600-1744207200@news.broadfield.com
SUMMARY:NAB Show 2025
DESCRIPTION:NAB Show is the premier destination for leaders in the media and entertainment industries. It convenes decision-makers from around the globe\, offering valuable insights\, cutting-edge tools\, and innovative technologies that enable storytelling at scale. Nowhere else will you experience emerging trends across artificial intelligence\, the creator economy\, sports\, streaming/OTT and cloud virtualization all in one place. \nExhibit Hall Hours:\nSunday\, April 6 | 10 a.m. – 6 p.m.\nMonday\, April 7 | 9 a.m. – 6 p.m.\nTuesday\, April 8 | 9 a.m. – 6 p.m.\nWednesday\, April 9 | 9 a.m. – 2 p.m. \nPlease find our vendor booths below and register for the show at https://www.nabshow.com/ \n\n\n\nNorth Hall\n\nSouth Lower Hall\n\nWest Hall\n\nNorth Hall Meeting Rooms (level 2)\n\n\nAbsen\nN1759\n\nAJA\nSL3310\n\nAdvanced Image Robotics\nW4143AG\n\nCanon\nN263B\n\n\n\nCanon\nN2103\n\nAtomos\nSL4828\n\nEpiphan\nW1412\n\nPanasonic\nN261\n\n\n\nCoreSWX\nN2848\n\nAvid\nSL1516\n\nTelestream\nW1503\n\n\n\n\n\n\nGrass Valley\nN510\n\nBirdDog\nSL2628\n\nVizrt\nW3031\n\n\n\n\n\n\nIDX\nN3259\n\nFacilis\nSL5523\n\nViz Hospitality Room\nW3875\n\n\n\n\n\n\nMarshall\nN2649\n\nKiloview\nSL9413\n\n\n\n\n\n\n\n\nPanasonic\nN1311\n\nLiveU\nSL4911\n\n\n\n\n\n\n\n\nSanDisk\nN1513\n\nMatrox\nSL4511 & SL5823\n\n\n\n\n\n\n\n\nTeradek Live (along side VPS)\nN2121\n\nNETGEAR\nSL8913\n\n\n\n\n\n\n\n\nYoloLiv\nN3171\n\nPTZOptics\nSL2328\n\n\n\n\n\n\n\n\n\n\n\nQuantum\nSL2316\n\n\n\n\n\n\n\n\n\n\n\nSNS\nSL5711\n\n\n\n\n\n\n\n\n\n\n\nWestern Digital\nSL2129 & SL3916\n\n\n\n\n\n\n\n\n\n\n\nSegate\nSL6816
URL:https://news.broadfield.com/event/nab-show-2025/
LOCATION:Las Vegas Convention Center\, 3150 Paradise Rd\,\, Las Vegas\, NV\, 89109\, United States
ATTACH;FMTTYPE=image/png:https://news.broadfield.com/wp-content/uploads/2025/02/Lk1d1-P_f__a.png
END:VEVENT
END:VCALENDAR