BEGIN:VCALENDAR
VERSION:2.0
PRODID:-//BROADFIELD NEWS - ECPv6.15.20//NONSGML v1.0//EN
CALSCALE:GREGORIAN
METHOD:PUBLISH
X-ORIGINAL-URL:https://news.broadfield.com
X-WR-CALDESC:Events for BROADFIELD NEWS
REFRESH-INTERVAL;VALUE=DURATION:PT1H
X-Robots-Tag:noindex
X-PUBLISHED-TTL:PT1H
BEGIN:VTIMEZONE
TZID:America/New_York
BEGIN:DAYLIGHT
TZOFFSETFROM:-0500
TZOFFSETTO:-0400
TZNAME:EDT
DTSTART:20220313T070000
END:DAYLIGHT
BEGIN:STANDARD
TZOFFSETFROM:-0400
TZOFFSETTO:-0500
TZNAME:EST
DTSTART:20221106T060000
END:STANDARD
BEGIN:DAYLIGHT
TZOFFSETFROM:-0500
TZOFFSETTO:-0400
TZNAME:EDT
DTSTART:20230312T070000
END:DAYLIGHT
BEGIN:STANDARD
TZOFFSETFROM:-0400
TZOFFSETTO:-0500
TZNAME:EST
DTSTART:20231105T060000
END:STANDARD
BEGIN:DAYLIGHT
TZOFFSETFROM:-0500
TZOFFSETTO:-0400
TZNAME:EDT
DTSTART:20240310T070000
END:DAYLIGHT
BEGIN:STANDARD
TZOFFSETFROM:-0400
TZOFFSETTO:-0500
TZNAME:EST
DTSTART:20241103T060000
END:STANDARD
END:VTIMEZONE
BEGIN:VEVENT
DTSTART;TZID=America/New_York:20230601T090000
DTEND;TZID=America/New_York:20230601T100000
DTSTAMP:20260425T222333
CREATED:20230524T205320Z
LAST-MODIFIED:20230524T205320Z
UID:25647-1685610000-1685613600@news.broadfield.com
SUMMARY:Kiloview Webinar: NDI Core Key Advantages
DESCRIPTION:Don’t miss out on a simplified\, flexible\, and reliable NDI solution for live production workflows based on IP! \nOn June 1st at 9am EST\, Judy Zuo\, VP of Kiloview\, will discuss how the Kiloview NDI ecosystem is transforming live production workflows in the Kiloview office building! \nREGISTER HERE  \nIn this webinar\, you’ll discover the benefits of Kiloview NDI solutions\, including: \n\nCentralized management\, scheduling\, and distribution of signals;\nReal-time monitoring and switching;\nRecording and Intercom;\nCentralized management of equipment.\n\nYou’ll also have the opportunity to talk with Judy and ask questions! \nRegistration will enter you in a giveaway for a chance to win bundle of Kiloview NDI solutions which includes: \n\nNDI CORE\nMultiview Pro\nNDI Recorder\n\n 
URL:https://news.broadfield.com/event/kiloview-webinar-ndi-core-key-advantages/
ATTACH;FMTTYPE=image/jpeg:https://news.broadfield.com/wp-content/uploads/2023/05/682caf29-3262-53c9-fe78-0626384e3a0c-scaled.jpg
END:VEVENT
END:VCALENDAR