BEGIN:VCALENDAR
VERSION:2.0
PRODID:-//BROADFIELD NEWS - ECPv6.15.20//NONSGML v1.0//EN
CALSCALE:GREGORIAN
METHOD:PUBLISH
X-WR-CALNAME:BROADFIELD NEWS
X-ORIGINAL-URL:https://news.broadfield.com
X-WR-CALDESC:Events for BROADFIELD NEWS
REFRESH-INTERVAL;VALUE=DURATION:PT1H
X-Robots-Tag:noindex
X-PUBLISHED-TTL:PT1H
BEGIN:VTIMEZONE
TZID:America/New_York
BEGIN:DAYLIGHT
TZOFFSETFROM:-0500
TZOFFSETTO:-0400
TZNAME:EDT
DTSTART:20230312T070000
END:DAYLIGHT
BEGIN:STANDARD
TZOFFSETFROM:-0400
TZOFFSETTO:-0500
TZNAME:EST
DTSTART:20231105T060000
END:STANDARD
BEGIN:DAYLIGHT
TZOFFSETFROM:-0500
TZOFFSETTO:-0400
TZNAME:EDT
DTSTART:20240310T070000
END:DAYLIGHT
BEGIN:STANDARD
TZOFFSETFROM:-0400
TZOFFSETTO:-0500
TZNAME:EST
DTSTART:20241103T060000
END:STANDARD
BEGIN:DAYLIGHT
TZOFFSETFROM:-0500
TZOFFSETTO:-0400
TZNAME:EDT
DTSTART:20250309T070000
END:DAYLIGHT
BEGIN:STANDARD
TZOFFSETFROM:-0400
TZOFFSETTO:-0500
TZNAME:EST
DTSTART:20251102T060000
END:STANDARD
END:VTIMEZONE
BEGIN:VEVENT
DTSTART;TZID=America/New_York:20241112T150000
DTEND;TZID=America/New_York:20241114T170000
DTSTAMP:20260424T154511
CREATED:20241024T185019Z
LAST-MODIFIED:20241024T185224Z
UID:30050-1731423600-1731603600@news.broadfield.com
SUMMARY:NDI November 2024
DESCRIPTION:We will be hosting our 5th annual NDI November virtual event series where we will guests from the top NDI partners in the industry including case studies\, installation success stories\, product spotlights and more! NDI November is a month of live webinars highlighting the exciting technology for Video and Audio over IP. \nLearn more HERE
URL:https://news.broadfield.com/event/ndi-november-2024/
ATTACH;FMTTYPE=image/png:https://news.broadfield.com/wp-content/uploads/2024/10/Colorful-Cyberpunk-Top-3-Episode-Podcast-Instagram-Post-2.png
END:VEVENT
END:VCALENDAR