BEGIN:VCALENDAR
VERSION:2.0
PRODID:-//BROADFIELD NEWS - ECPv6.15.20//NONSGML v1.0//EN
CALSCALE:GREGORIAN
METHOD:PUBLISH
X-WR-CALNAME:BROADFIELD NEWS
X-ORIGINAL-URL:https://news.broadfield.com
X-WR-CALDESC:Events for BROADFIELD NEWS
REFRESH-INTERVAL;VALUE=DURATION:PT1H
X-Robots-Tag:noindex
X-PUBLISHED-TTL:PT1H
BEGIN:VTIMEZONE
TZID:America/New_York
BEGIN:DAYLIGHT
TZOFFSETFROM:-0500
TZOFFSETTO:-0400
TZNAME:EDT
DTSTART:20250309T070000
END:DAYLIGHT
BEGIN:STANDARD
TZOFFSETFROM:-0400
TZOFFSETTO:-0500
TZNAME:EST
DTSTART:20251102T060000
END:STANDARD
BEGIN:DAYLIGHT
TZOFFSETFROM:-0500
TZOFFSETTO:-0400
TZNAME:EDT
DTSTART:20260308T070000
END:DAYLIGHT
BEGIN:STANDARD
TZOFFSETFROM:-0400
TZOFFSETTO:-0500
TZNAME:EST
DTSTART:20261101T060000
END:STANDARD
BEGIN:DAYLIGHT
TZOFFSETFROM:-0500
TZOFFSETTO:-0400
TZNAME:EDT
DTSTART:20270314T070000
END:DAYLIGHT
BEGIN:STANDARD
TZOFFSETFROM:-0400
TZOFFSETTO:-0500
TZNAME:EST
DTSTART:20271107T060000
END:STANDARD
END:VTIMEZONE
BEGIN:VEVENT
DTSTART;TZID=America/New_York:20260121T140000
DTEND;TZID=America/New_York:20260121T150000
DTSTAMP:20260423T151645
CREATED:20260115T160832Z
LAST-MODIFIED:20260116T151230Z
UID:34382-1769004000-1769007600@news.broadfield.com
SUMMARY:NETGEAR - 5G + WiFi 7 Convergence Jan 21 2026\, 2:00pm EST
DESCRIPTION:Join NETGEAR for their monthly webinar series\, NETGEAR Enterprise\, and watch them create an “always-on” network anywhere. \nThis session with Keith Nielsen and Rich Allgood explores the powerful synergy between 5G mobile hotspots and WiFi 7 access points. We’ll cover use cases for pop-up retail\, outdoor events\, and robust failover strategies\, showing you how to deliver seamless\, high-speed connectivity for any temporary or remote location. See the demo and never worry about dead zones again. \nRegister HERE
URL:https://news.broadfield.com/event/netgear-5g-wifi-7-convergence-jan-21-2026-200pm-est/
ATTACH;FMTTYPE=image/png:https://news.broadfield.com/wp-content/uploads/2026/01/image_1058869.png
END:VEVENT
BEGIN:VEVENT
DTSTART;TZID=America/New_York:20260128T140000
DTEND;TZID=America/New_York:20260128T150000
DTSTAMP:20260423T151645
CREATED:20260115T163613Z
LAST-MODIFIED:20260116T151210Z
UID:34394-1769608800-1769612400@news.broadfield.com
SUMMARY:NETGEAR: NEW PRODUCT ALERT: ISE Sneak Peek - Jan 28 2026\, 2:00pm EST
DESCRIPTION:Join NETGEAR on Jan 28\, 2026\, at 2:00 pm EST for this episode of their monthly webinar series\, NETGEAR Enterprise. \n\n  \n\nYou won’t want to miss this sneak peek at the hot new products debuting at the ISE Show. Get the inside scoop—you’re going to be blown away by what’s on the way. \nPresented by John Henkel\, NETGEAR\, Product Marketing Director & Laurent Masia\, NETGEAR\, Sr. Director of Product Management \n\n\n\n\n\n\n\n\n\n\n\n\n\n\nRegister HERE
URL:https://news.broadfield.com/event/netgear-new-product-alert-ise-sneak-peek-jan-28-2026-200pm-est/
ATTACH;FMTTYPE=image/png:https://news.broadfield.com/wp-content/uploads/2026/01/image_1076808.png
END:VEVENT
END:VCALENDAR