BEGIN:VCALENDAR
VERSION:2.0
PRODID:-//BROADFIELD NEWS - ECPv6.15.20//NONSGML v1.0//EN
CALSCALE:GREGORIAN
METHOD:PUBLISH
X-ORIGINAL-URL:https://news.broadfield.com
X-WR-CALDESC:Events for BROADFIELD NEWS
REFRESH-INTERVAL;VALUE=DURATION:PT1H
X-Robots-Tag:noindex
X-PUBLISHED-TTL:PT1H
BEGIN:VTIMEZONE
TZID:America/New_York
BEGIN:DAYLIGHT
TZOFFSETFROM:-0500
TZOFFSETTO:-0400
TZNAME:EDT
DTSTART:20250309T070000
END:DAYLIGHT
BEGIN:STANDARD
TZOFFSETFROM:-0400
TZOFFSETTO:-0500
TZNAME:EST
DTSTART:20251102T060000
END:STANDARD
BEGIN:DAYLIGHT
TZOFFSETFROM:-0500
TZOFFSETTO:-0400
TZNAME:EDT
DTSTART:20260308T070000
END:DAYLIGHT
BEGIN:STANDARD
TZOFFSETFROM:-0400
TZOFFSETTO:-0500
TZNAME:EST
DTSTART:20261101T060000
END:STANDARD
BEGIN:DAYLIGHT
TZOFFSETFROM:-0500
TZOFFSETTO:-0400
TZNAME:EDT
DTSTART:20270314T070000
END:DAYLIGHT
BEGIN:STANDARD
TZOFFSETFROM:-0400
TZOFFSETTO:-0500
TZNAME:EST
DTSTART:20271107T060000
END:STANDARD
END:VTIMEZONE
BEGIN:VEVENT
DTSTART;TZID=America/New_York:20260225T140000
DTEND;TZID=America/New_York:20260225T150000
DTSTAMP:20260423T134104
CREATED:20260224T140527Z
LAST-MODIFIED:20260224T140527Z
UID:34779-1772028000-1772031600@news.broadfield.com
SUMMARY:NETGEAR Academy (Free AV Training) + Visual Reasoning with PTZOptics
DESCRIPTION:Join PTZOptics Live 📅 February 25\, 2026 | 2 PM EST \nNETGEAR Academy Level 1 segment covering how to get started with FREE AV training and certification. Everything you see is powered by PTZOptics cameras. \nWATCH HERE \n🔍 What PTZOptics is Covering:\n• What Visual Reasoning is and why it’s changing AV\n• AI-driven PTZ control\, object tracking\, and automation\n• Voice and text-based camera control workflows\n• How to get started with NETGEAR Academy Level 1\n• Practical tips for passing Level 1 and applying it in real productions
URL:https://news.broadfield.com/event/netgear-academy-free-av-training-visual-reasoning-with-ptzoptics/
ATTACH;FMTTYPE=image/avif:https://news.broadfield.com/wp-content/uploads/2026/02/hqdefault.avif
END:VEVENT
END:VCALENDAR