BEGIN:VCALENDAR
VERSION:2.0
PRODID:-//BROADFIELD NEWS - ECPv6.15.20//NONSGML v1.0//EN
CALSCALE:GREGORIAN
METHOD:PUBLISH
X-WR-CALNAME:BROADFIELD NEWS
X-ORIGINAL-URL:https://news.broadfield.com
X-WR-CALDESC:Events for BROADFIELD NEWS
REFRESH-INTERVAL;VALUE=DURATION:PT1H
X-Robots-Tag:noindex
X-PUBLISHED-TTL:PT1H
BEGIN:VTIMEZONE
TZID:America/New_York
BEGIN:DAYLIGHT
TZOFFSETFROM:-0500
TZOFFSETTO:-0400
TZNAME:EDT
DTSTART:20240310T070000
END:DAYLIGHT
BEGIN:STANDARD
TZOFFSETFROM:-0400
TZOFFSETTO:-0500
TZNAME:EST
DTSTART:20241103T060000
END:STANDARD
BEGIN:DAYLIGHT
TZOFFSETFROM:-0500
TZOFFSETTO:-0400
TZNAME:EDT
DTSTART:20250309T070000
END:DAYLIGHT
BEGIN:STANDARD
TZOFFSETFROM:-0400
TZOFFSETTO:-0500
TZNAME:EST
DTSTART:20251102T060000
END:STANDARD
BEGIN:DAYLIGHT
TZOFFSETFROM:-0500
TZOFFSETTO:-0400
TZNAME:EDT
DTSTART:20260308T070000
END:DAYLIGHT
BEGIN:STANDARD
TZOFFSETFROM:-0400
TZOFFSETTO:-0500
TZNAME:EST
DTSTART:20261101T060000
END:STANDARD
END:VTIMEZONE
BEGIN:VEVENT
DTSTART;VALUE=DATE:20250429
DTEND;VALUE=DATE:20250509
DTSTAMP:20260424T114925
CREATED:20250312T173906Z
LAST-MODIFIED:20250424T204018Z
UID:31180-1745884800-1746748799@news.broadfield.com
SUMMARY:Key Code Media PostNAB Roadshow 2025
DESCRIPTION:Join Broadfield at the Key Code Media2025 PostNAB Roadshow. The ultimate gathering for broadcasting\, media\, and entertainment professionals in Los Angeles\, Seattle\, Chicago\, and Detroit. \nBroadfield will be exhibiting at ALL four locations where we will be showing workflows from NETGEAR\, Kiloview\, PTZOptics & BirdDog and AIR (Los Angeles only). \n4/29 SEATTLE\n5/1 LOS ANGELES\n5/6 DETROIT\n5/8 CHICAGO \n  \nDiscover the latest AV\, Broadcast\, and Post Production tech at the PostNAB 2025 Roadshow by Key Code Media. With over 40 top solutions on display and masterclass skill sessions\, you’ll get all your tech and budget questions answered in one place. Plus\, network with fellow industry professionals from the area. Don’t miss this opportunity – register now! \n 
URL:https://news.broadfield.com/event/key-code-media-postnab-roadshow-2025/
ATTACH;FMTTYPE=image/webp:https://news.broadfield.com/wp-content/uploads/2025/03/POSTNAB-EVENT-Graphic-1280x720-v2-1.webp
END:VEVENT
END:VCALENDAR