BEGIN:VCALENDAR
VERSION:2.0
PRODID:-//BROADFIELD NEWS - ECPv6.15.20//NONSGML v1.0//EN
CALSCALE:GREGORIAN
METHOD:PUBLISH
X-WR-CALNAME:BROADFIELD NEWS
X-ORIGINAL-URL:https://news.broadfield.com
X-WR-CALDESC:Events for BROADFIELD NEWS
REFRESH-INTERVAL;VALUE=DURATION:PT1H
X-Robots-Tag:noindex
X-PUBLISHED-TTL:PT1H
BEGIN:VTIMEZONE
TZID:America/New_York
BEGIN:DAYLIGHT
TZOFFSETFROM:-0500
TZOFFSETTO:-0400
TZNAME:EDT
DTSTART:20250309T070000
END:DAYLIGHT
BEGIN:STANDARD
TZOFFSETFROM:-0400
TZOFFSETTO:-0500
TZNAME:EST
DTSTART:20251102T060000
END:STANDARD
BEGIN:DAYLIGHT
TZOFFSETFROM:-0500
TZOFFSETTO:-0400
TZNAME:EDT
DTSTART:20260308T070000
END:DAYLIGHT
BEGIN:STANDARD
TZOFFSETFROM:-0400
TZOFFSETTO:-0500
TZNAME:EST
DTSTART:20261101T060000
END:STANDARD
BEGIN:DAYLIGHT
TZOFFSETFROM:-0500
TZOFFSETTO:-0400
TZNAME:EDT
DTSTART:20270314T070000
END:DAYLIGHT
BEGIN:STANDARD
TZOFFSETFROM:-0400
TZOFFSETTO:-0500
TZNAME:EST
DTSTART:20271107T060000
END:STANDARD
END:VTIMEZONE
BEGIN:VEVENT
DTSTART;VALUE=DATE:20260505
DTEND;VALUE=DATE:20260521
DTSTAMP:20260423T125627
CREATED:20260317T141620Z
LAST-MODIFIED:20260422T143848Z
UID:35040-1777939200-1779321599@news.broadfield.com
SUMMARY:Key Code Media PostNAB Roadshow 2026
DESCRIPTION:Join Broadfield at the 2026 PostNAB Roadshow. The ultimate gathering for broadcasting\, media\, and entertainment professionals in Los Angeles\, Seattle\, Chicago\, and Detroit.  Broadfield will be displaying workflows from Atomos\, PTZOptics\, NETGEAR\, & Kiloview \nDATES \nChciago – 5/5\nDetroit – 5/7\nLos Angeles – 5/12\nSeattle 5/20 \nRSVP to each city here! \n  \nDid you miss NAB? No worries- we’re bringing the best of it to YOU! \nJoin Key Code Media’s 12th Annual PostNAB Roadshow to get hands-on with the latest broadcast\, post-production\, and AV technology from 40+ leading exhibitors. Discover game-changing solutions\, hear straight from industry experts\, and get real answers to your toughest upgrade questions. \nDon’t just hear about the future- see it for yourself. Secure your spot today!
URL:https://news.broadfield.com/event/key-code-media-postnab-roadshow-2026/
ATTACH;FMTTYPE=image/png:https://news.broadfield.com/wp-content/uploads/2026/03/POSTNAB-EVENT-Graphic-1280x720-v2-1.png
END:VEVENT
END:VCALENDAR