BEGIN:VCALENDAR
VERSION:2.0
PRODID:-//BROADFIELD NEWS - ECPv6.15.20//NONSGML v1.0//EN
CALSCALE:GREGORIAN
METHOD:PUBLISH
X-WR-CALNAME:BROADFIELD NEWS
X-ORIGINAL-URL:https://news.broadfield.com
X-WR-CALDESC:Events for BROADFIELD NEWS
REFRESH-INTERVAL;VALUE=DURATION:PT1H
X-Robots-Tag:noindex
X-PUBLISHED-TTL:PT1H
BEGIN:VTIMEZONE
TZID:America/New_York
BEGIN:DAYLIGHT
TZOFFSETFROM:-0500
TZOFFSETTO:-0400
TZNAME:EDT
DTSTART:20220313T070000
END:DAYLIGHT
BEGIN:STANDARD
TZOFFSETFROM:-0400
TZOFFSETTO:-0500
TZNAME:EST
DTSTART:20221106T060000
END:STANDARD
BEGIN:DAYLIGHT
TZOFFSETFROM:-0500
TZOFFSETTO:-0400
TZNAME:EDT
DTSTART:20230312T070000
END:DAYLIGHT
BEGIN:STANDARD
TZOFFSETFROM:-0400
TZOFFSETTO:-0500
TZNAME:EST
DTSTART:20231105T060000
END:STANDARD
BEGIN:DAYLIGHT
TZOFFSETFROM:-0500
TZOFFSETTO:-0400
TZNAME:EDT
DTSTART:20240310T070000
END:DAYLIGHT
BEGIN:STANDARD
TZOFFSETFROM:-0400
TZOFFSETTO:-0500
TZNAME:EST
DTSTART:20241103T060000
END:STANDARD
END:VTIMEZONE
BEGIN:VEVENT
DTSTART;TZID=America/New_York:20231025T100000
DTEND;TZID=America/New_York:20231026T180000
DTSTAMP:20260425T114225
CREATED:20230920T155759Z
LAST-MODIFIED:20230921T192641Z
UID:26468-1698228000-1698343200@news.broadfield.com
SUMMARY:Broadfield at NAB NY 2023 Booth # 919
DESCRIPTION:Join us at booth #919 at NAB NY 2023 where we will be joined by our partners\, Advanced Image Robotics\, Atomos\, Avid\, Canon\, Epiphan Video\, JVC\, Kiloview\, Matrox\, Panasonic Connect\, PTZOptics\, RED Digital Cinema and Vizrt. \nWe will be showing off multiple workflows and demos including SMPTE 2110\, NDI\, AIR One and more! \nUse our guest Guest Pass Code: NY2625 for a free exhibitor pass! Register HERE! \n 
URL:https://news.broadfield.com/event/broadfield-at-nab-ny-2023-booth-919/
LOCATION:Javits Center\, 429 11th Ave\, New York\, NY\, 10001\, United States
ATTACH;FMTTYPE=image/jpeg:https://news.broadfield.com/wp-content/uploads/2023/09/NABNY2023_ALL-1.jpg
END:VEVENT
END:VCALENDAR