BEGIN:VCALENDAR
VERSION:2.0
PRODID:-//BROADFIELD NEWS - ECPv6.15.20//NONSGML v1.0//EN
CALSCALE:GREGORIAN
METHOD:PUBLISH
X-ORIGINAL-URL:https://news.broadfield.com
X-WR-CALDESC:Events for BROADFIELD NEWS
REFRESH-INTERVAL;VALUE=DURATION:PT1H
X-Robots-Tag:noindex
X-PUBLISHED-TTL:PT1H
BEGIN:VTIMEZONE
TZID:America/New_York
BEGIN:DAYLIGHT
TZOFFSETFROM:-0500
TZOFFSETTO:-0400
TZNAME:EDT
DTSTART:20250309T070000
END:DAYLIGHT
BEGIN:STANDARD
TZOFFSETFROM:-0400
TZOFFSETTO:-0500
TZNAME:EST
DTSTART:20251102T060000
END:STANDARD
BEGIN:DAYLIGHT
TZOFFSETFROM:-0500
TZOFFSETTO:-0400
TZNAME:EDT
DTSTART:20260308T070000
END:DAYLIGHT
BEGIN:STANDARD
TZOFFSETFROM:-0400
TZOFFSETTO:-0500
TZNAME:EST
DTSTART:20261101T060000
END:STANDARD
BEGIN:DAYLIGHT
TZOFFSETFROM:-0500
TZOFFSETTO:-0400
TZNAME:EDT
DTSTART:20270314T070000
END:DAYLIGHT
BEGIN:STANDARD
TZOFFSETFROM:-0400
TZOFFSETTO:-0500
TZNAME:EST
DTSTART:20271107T060000
END:STANDARD
END:VTIMEZONE
BEGIN:VEVENT
DTSTART;TZID=America/New_York:20260408T100000
DTEND;TZID=America/New_York:20260408T110000
DTSTAMP:20260423T102552
CREATED:20260325T141344Z
LAST-MODIFIED:20260325T141344Z
UID:35136-1775642400-1775646000@news.broadfield.com
SUMMARY:PTZOptics Q2 2026 Quarterly Tech Connect
DESCRIPTION:Where Innovation Meets Integration!  PTZOptics Quarterly TechConnect is back for 2026 on Wednesday\, April 8th at 10am EST. Hosted by: Silke Brown\, Brandy Johnson\, and Tom Schmitt. \nDesigned exclusively for distributors and resellers\, this live session delivers impactful insights and unmatched value to help you sell smarter in 2026. \n✅ Learn more about the recent changes at PTZOptics and what the ESOP means for you\n✅ Dive into our HETMA-approved solutions for higher ed with AVI-SPL and Vanderbilt\n✅ Enjoy an open Q&A to wrap up the Q2 webinar \nREGISTER HERE!
URL:https://news.broadfield.com/event/ptzoptics-q2-2026-quarterly-tech-connect/
ATTACH;FMTTYPE=image/png:https://news.broadfield.com/wp-content/uploads/2026/03/SucppNWTpW_WYSE9RHA_g.png
END:VEVENT
END:VCALENDAR