BEGIN:VCALENDAR
VERSION:2.0
PRODID:-//BROADFIELD NEWS - ECPv6.15.20//NONSGML v1.0//EN
CALSCALE:GREGORIAN
METHOD:PUBLISH
X-WR-CALNAME:BROADFIELD NEWS
X-ORIGINAL-URL:https://news.broadfield.com
X-WR-CALDESC:Events for BROADFIELD NEWS
REFRESH-INTERVAL;VALUE=DURATION:PT1H
X-Robots-Tag:noindex
X-PUBLISHED-TTL:PT1H
BEGIN:VTIMEZONE
TZID:America/New_York
BEGIN:DAYLIGHT
TZOFFSETFROM:-0500
TZOFFSETTO:-0400
TZNAME:EDT
DTSTART:20220313T070000
END:DAYLIGHT
BEGIN:STANDARD
TZOFFSETFROM:-0400
TZOFFSETTO:-0500
TZNAME:EST
DTSTART:20221106T060000
END:STANDARD
BEGIN:DAYLIGHT
TZOFFSETFROM:-0500
TZOFFSETTO:-0400
TZNAME:EDT
DTSTART:20230312T070000
END:DAYLIGHT
BEGIN:STANDARD
TZOFFSETFROM:-0400
TZOFFSETTO:-0500
TZNAME:EST
DTSTART:20231105T060000
END:STANDARD
BEGIN:DAYLIGHT
TZOFFSETFROM:-0500
TZOFFSETTO:-0400
TZNAME:EDT
DTSTART:20240310T070000
END:DAYLIGHT
BEGIN:STANDARD
TZOFFSETFROM:-0400
TZOFFSETTO:-0500
TZNAME:EST
DTSTART:20241103T060000
END:STANDARD
END:VTIMEZONE
BEGIN:VEVENT
DTSTART;TZID=America/New_York:20231211T123000
DTEND;TZID=America/New_York:20231212T183000
DTSTAMP:20260425T173432
CREATED:20231018T184041Z
LAST-MODIFIED:20231018T184041Z
UID:26696-1702297800-1702405800@news.broadfield.com
SUMMARY:SVG Summit 2023
DESCRIPTION:SVG’s most anticipated event of the year is set to take place on December 11-12 at the New York Hilton. The SVG Summit is the industry’s biggest gathering as the top engineering and production professionals gather to discuss\, debate and direct the future of sports broadcasting. \nREGISTER HERE! \nMonday December 11th Agenda Workshops will include: Live Production (AI\, IP\, & Remote)\, Two Sports Cloud Workshops (Live Production & Content Management Tracks)\, Audio\, Digital Engagement (Formerly Sports OTT)\, Cyber Security\, and Diversity & Inclusion. These workshops will be followed by a networking reception in the exhibit area. \nTuesday December 12th Agenda Our main track is center stage bringing together the biggest names in sports tech for lively end user panel discussions and sponsor case study presentations. \n\n\n\n\n\n\n\nAs always\, expect a few new show enhancements this year\, designed to further enrich your SVG Summit experience. But remember that this year’s show\, as always\, is ultimately about the fans and our viewers. Every year\, what our members and sponsors openly share on stage and in the halls of the Hilton transforms the way leagues\, teams\, and broadcasters connect with their audiences.
URL:https://news.broadfield.com/event/svg-summit-2023/
LOCATION:New York Hilton Midtown Hotel\, 1335 Avenue of the Americas\, New York\, NY\, 10019\, United States
ATTACH;FMTTYPE=image/png:https://news.broadfield.com/wp-content/uploads/2023/10/23SUMHeader_350x100dated.png
END:VEVENT
END:VCALENDAR