BEGIN:VCALENDAR
VERSION:2.0
PRODID:-//BROADFIELD NEWS - ECPv6.15.20//NONSGML v1.0//EN
CALSCALE:GREGORIAN
METHOD:PUBLISH
X-ORIGINAL-URL:https://news.broadfield.com
X-WR-CALDESC:Events for BROADFIELD NEWS
REFRESH-INTERVAL;VALUE=DURATION:PT1H
X-Robots-Tag:noindex
X-PUBLISHED-TTL:PT1H
BEGIN:VTIMEZONE
TZID:America/New_York
BEGIN:DAYLIGHT
TZOFFSETFROM:-0500
TZOFFSETTO:-0400
TZNAME:EDT
DTSTART:20220313T070000
END:DAYLIGHT
BEGIN:STANDARD
TZOFFSETFROM:-0400
TZOFFSETTO:-0500
TZNAME:EST
DTSTART:20221106T060000
END:STANDARD
BEGIN:DAYLIGHT
TZOFFSETFROM:-0500
TZOFFSETTO:-0400
TZNAME:EDT
DTSTART:20230312T070000
END:DAYLIGHT
BEGIN:STANDARD
TZOFFSETFROM:-0400
TZOFFSETTO:-0500
TZNAME:EST
DTSTART:20231105T060000
END:STANDARD
BEGIN:DAYLIGHT
TZOFFSETFROM:-0500
TZOFFSETTO:-0400
TZNAME:EDT
DTSTART:20240310T070000
END:DAYLIGHT
BEGIN:STANDARD
TZOFFSETFROM:-0400
TZOFFSETTO:-0500
TZNAME:EST
DTSTART:20241103T060000
END:STANDARD
END:VTIMEZONE
BEGIN:VEVENT
DTSTART;TZID=America/New_York:20231109T135000
DTEND;TZID=America/New_York:20231109T144000
DTSTAMP:20260425T172155
CREATED:20231101T155214Z
LAST-MODIFIED:20231101T155214Z
UID:26820-1699537800-1699540800@news.broadfield.com
SUMMARY:Vizrt 2023 Esports And Education Virtual Conference: Anatomy of an Esports Program in 2024
DESCRIPTION:AV Technology\, Systems Contractor News and Tech & Learning are co-hosting this one-day virtual conference alongside event partners the National Association of Collegiate Esports (NACE) and the Network of Academic and Scholastic Esports Federations (NASEF). \nJoin Chris Burgos from Vizrt on this expert panel\, Anatomy of an Esports Program in 2024 – Planning\, Infrastructure\, Software\, Hardware to Streaming\, which explores the full spectrum of what is needed from infrastructure\, signal distribution and the technologies in universities and K-12 schools\, to run a successful esport program. From projectors and consoles to PCs\, broadcast equipment\, screens\, virtual reality\, webcams\, interactive whiteboards\, – every angle is covered. Discover the hidden gems of the YouTube and Twitch streaming universe. You won’t want to miss this! \nREGISTER HERE! \nDesigned for esports decision-makers from K-12 and higher education as well as pro AV/IT professionals\, this virtual conference aims to explore the trends\, tools\, and experiences in esports & education. \nWhy should you attend?  \n\nTo learn about how esports has integrated into the curriculum at colleges\, universities and K-12 classrooms across North America\nTo chat with high-level experts on esports.\nTo hear from your peers on how they are introducing or have implemented an esport program in their schools and universities
URL:https://news.broadfield.com/event/vizrt-2023-esports-and-education-virtual-conference-anatomy-of-an-esports-program-in-2024/
ATTACH;FMTTYPE=image/jpeg:https://news.broadfield.com/wp-content/uploads/2023/11/Vizrt_Esports_And_Education_Virtual_Conference_SoMe_1920x1080_v2-5.jpg
END:VEVENT
END:VCALENDAR