BEGIN:VCALENDAR
VERSION:2.0
PRODID:-//BROADFIELD NEWS - ECPv6.15.20//NONSGML v1.0//EN
CALSCALE:GREGORIAN
METHOD:PUBLISH
X-WR-CALNAME:BROADFIELD NEWS
X-ORIGINAL-URL:https://news.broadfield.com
X-WR-CALDESC:Events for BROADFIELD NEWS
REFRESH-INTERVAL;VALUE=DURATION:PT1H
X-Robots-Tag:noindex
X-PUBLISHED-TTL:PT1H
BEGIN:VTIMEZONE
TZID:America/North_Dakota/Center
BEGIN:DAYLIGHT
TZOFFSETFROM:-0600
TZOFFSETTO:-0500
TZNAME:CDT
DTSTART:20230312T080000
END:DAYLIGHT
BEGIN:STANDARD
TZOFFSETFROM:-0500
TZOFFSETTO:-0600
TZNAME:CST
DTSTART:20231105T070000
END:STANDARD
BEGIN:DAYLIGHT
TZOFFSETFROM:-0600
TZOFFSETTO:-0500
TZNAME:CDT
DTSTART:20240310T080000
END:DAYLIGHT
BEGIN:STANDARD
TZOFFSETFROM:-0500
TZOFFSETTO:-0600
TZNAME:CST
DTSTART:20241103T070000
END:STANDARD
BEGIN:DAYLIGHT
TZOFFSETFROM:-0600
TZOFFSETTO:-0500
TZNAME:CDT
DTSTART:20250309T080000
END:DAYLIGHT
BEGIN:STANDARD
TZOFFSETFROM:-0500
TZOFFSETTO:-0600
TZNAME:CST
DTSTART:20251102T070000
END:STANDARD
END:VTIMEZONE
BEGIN:VEVENT
DTSTART;TZID=America/North_Dakota/Center:20240117T100000
DTEND;TZID=America/North_Dakota/Center:20240117T170000
DTSTAMP:20260425T121232
CREATED:20231213T173907Z
LAST-MODIFIED:20240112T181551Z
UID:27348-1705485600-1705510800@news.broadfield.com
SUMMARY:Texas Film Gear Winter Showcase 2024
DESCRIPTION:Texas Film Gear presents a winter gear showcase! \n\nVendor Demo table tops and seminars!\nFree Catered Lunch & Snacks (with registration) + a sponsored Happy hour at 5pm!.\nDoor Prizes will be done via raffle for registered attendees – must be registered to win)\nSeminar Schedule: (to be announced)\n\nRESERVE A SPOT HERE! \nBroadfield will be showcasing workflows from Atomos\, BirdDog\, Kiloview\, LiveU\, RED & Vizrt. \nTable Vendors include: \n\n-Sony\nAJA\nWooden Camera\, Teradek\, SmallHD\nSachtler\, Anton Bauer\, Litepanels\, Quasar Science\, Autoscript\nPanasonic\nCanon\nRED\nBlackmagic Design\nBrainstorm 3D\nCartoni\nCreamsource\nCoreSWX\nInovativ\nMid49\nDZO Lenses\nNewtew now Vizrt\nYamaha\, Sennheiser\nShure\, Allen and Heath\, Data Video\nand more!
URL:https://news.broadfield.com/event/texas-film-gear-winter-showcase-2024/
LOCATION:166 Express St\, 166 Express Street\, Dallas\, TX\, 75207\, United States
ATTACH;FMTTYPE=image/png:https://news.broadfield.com/wp-content/uploads/2023/12/WinterShowcase-Horizontal-Poster-6.png
END:VEVENT
END:VCALENDAR