BEGIN:VCALENDAR
VERSION:2.0
PRODID:-//BROADFIELD NEWS - ECPv6.15.20//NONSGML v1.0//EN
CALSCALE:GREGORIAN
METHOD:PUBLISH
X-ORIGINAL-URL:https://news.broadfield.com
X-WR-CALDESC:Events for BROADFIELD NEWS
REFRESH-INTERVAL;VALUE=DURATION:PT1H
X-Robots-Tag:noindex
X-PUBLISHED-TTL:PT1H
BEGIN:VTIMEZONE
TZID:America/North_Dakota/Center
BEGIN:DAYLIGHT
TZOFFSETFROM:-0600
TZOFFSETTO:-0500
TZNAME:CDT
DTSTART:20240310T080000
END:DAYLIGHT
BEGIN:STANDARD
TZOFFSETFROM:-0500
TZOFFSETTO:-0600
TZNAME:CST
DTSTART:20241103T070000
END:STANDARD
BEGIN:DAYLIGHT
TZOFFSETFROM:-0600
TZOFFSETTO:-0500
TZNAME:CDT
DTSTART:20250309T080000
END:DAYLIGHT
BEGIN:STANDARD
TZOFFSETFROM:-0500
TZOFFSETTO:-0600
TZNAME:CST
DTSTART:20251102T070000
END:STANDARD
BEGIN:DAYLIGHT
TZOFFSETFROM:-0600
TZOFFSETTO:-0500
TZNAME:CDT
DTSTART:20260308T080000
END:DAYLIGHT
BEGIN:STANDARD
TZOFFSETFROM:-0500
TZOFFSETTO:-0600
TZNAME:CST
DTSTART:20261101T070000
END:STANDARD
END:VTIMEZONE
BEGIN:VEVENT
DTSTART;VALUE=DATE:20250522
DTEND;VALUE=DATE:20250523
DTSTAMP:20260424T094603
CREATED:20250320T153710Z
LAST-MODIFIED:20250522T130555Z
UID:31277-1747872000-1747958399@news.broadfield.com
SUMMARY:Texas Production Expo 2025
DESCRIPTION:The largest Film and Broadcast video expo in Texas \nThe largest film\, cinema\, live production\, and broadcast expo in Texas is back for 2025. This FREE event is a chance for you to get your hands on the latest gear and equipment all while attending seminars\, networking with industry professionals\, and getting the chance to win some incredible prizes! Broadfield will be exhibiting along side Vizrt\, SanDisk\,  Liberty Workstations and more! \nOver 1\,000 production professionals\, creatives\, artists\, gear heads\, tech enthusiasts\, and film aficionados descend upon the Grapevine Convention center to get their hands on the latest and greatest film\, cinema\, and post production tech\, gear\, and software. \nNo matter if you are a working professional\, hobbyist\, or student\, this show has something for everyone. TPE includes a full day of seminars with both technical and practical knowledge\, on-site catering\, and the chance to win some amazing raffle prizes. \nREGISTER HERE!
URL:https://news.broadfield.com/event/texas-production-expo-2025/
LOCATION:Grapevine Convention Center\, 1209 S. Main Street\, Grapevine\, TX\, 76051\, United States
ATTACH;FMTTYPE=image/png:https://news.broadfield.com/wp-content/uploads/2025/03/Screenshot-2025-03-20-113519.png
END:VEVENT
END:VCALENDAR