BEGIN:VCALENDAR
VERSION:2.0
PRODID:-//BROADFIELD NEWS - ECPv6.15.20//NONSGML v1.0//EN
CALSCALE:GREGORIAN
METHOD:PUBLISH
X-ORIGINAL-URL:https://news.broadfield.com
X-WR-CALDESC:Events for BROADFIELD NEWS
REFRESH-INTERVAL;VALUE=DURATION:PT1H
X-Robots-Tag:noindex
X-PUBLISHED-TTL:PT1H
BEGIN:VTIMEZONE
TZID:America/Chicago
BEGIN:DAYLIGHT
TZOFFSETFROM:-0600
TZOFFSETTO:-0500
TZNAME:CDT
DTSTART:20250309T080000
END:DAYLIGHT
BEGIN:STANDARD
TZOFFSETFROM:-0500
TZOFFSETTO:-0600
TZNAME:CST
DTSTART:20251102T070000
END:STANDARD
BEGIN:DAYLIGHT
TZOFFSETFROM:-0600
TZOFFSETTO:-0500
TZNAME:CDT
DTSTART:20260308T080000
END:DAYLIGHT
BEGIN:STANDARD
TZOFFSETFROM:-0500
TZOFFSETTO:-0600
TZNAME:CST
DTSTART:20261101T070000
END:STANDARD
BEGIN:DAYLIGHT
TZOFFSETFROM:-0600
TZOFFSETTO:-0500
TZNAME:CDT
DTSTART:20270314T080000
END:DAYLIGHT
BEGIN:STANDARD
TZOFFSETFROM:-0500
TZOFFSETTO:-0600
TZNAME:CST
DTSTART:20271107T070000
END:STANDARD
END:VTIMEZONE
BEGIN:VEVENT
DTSTART;TZID=America/Chicago:20260528T090000
DTEND;TZID=America/Chicago:20260528T170000
DTSTAMP:20260423T182356
CREATED:20260402T153311Z
LAST-MODIFIED:20260402T153311Z
UID:35230-1779958800-1779987600@news.broadfield.com
SUMMARY:Texas Production Expo 2026
DESCRIPTION:Join Broadfield at the Texas Production Expo on May 28th\, 2026.  TPE is the premier annual trade show of production services and technology in North Texas. Each year\, the top companies in the market showcase their latest and greatest. This FREE event is a chance for you to get your hands on the latest gear and equipment all while attending seminars\, networking with industry professionals\, and getting the chance to win some incredible prizes! \nOver 1\,000 production professionals\, creatives\, artists\, gear heads\, tech enthusiasts\, and film aficionados descend upon the Grapevine Convention center to get their hands on the latest and greatest film\, cinema\, and post production tech\, gear\, and software. \nNo matter if you are a working professional\, hobbyist\, or student\, this show has something for everyone. TPE includes a full day of seminars with both technical and practical knowledge\, on-site catering\, and the chance to win some amazing raffle prizes. \nBest of all. It’s completely\, 100% free for attendees.  \nREGITSER HERE
URL:https://news.broadfield.com/event/texas-production-expo-2026/
LOCATION:Grapevine Convention Center\, 1209 S. Main Street\, Grapevine\, TX\, 76051\, United States
ATTACH;FMTTYPE=image/webp:https://news.broadfield.com/wp-content/uploads/2026/04/0d66084d-9153-428e-bcac-dbd4e717c37a.webp
END:VEVENT
END:VCALENDAR