BEGIN:VCALENDAR
VERSION:2.0
PRODID:-//BROADFIELD NEWS - ECPv6.15.20//NONSGML v1.0//EN
CALSCALE:GREGORIAN
METHOD:PUBLISH
X-WR-CALNAME:BROADFIELD NEWS
X-ORIGINAL-URL:https://news.broadfield.com
X-WR-CALDESC:Events for BROADFIELD NEWS
REFRESH-INTERVAL;VALUE=DURATION:PT1H
X-Robots-Tag:noindex
X-PUBLISHED-TTL:PT1H
BEGIN:VTIMEZONE
TZID:America/New_York
BEGIN:DAYLIGHT
TZOFFSETFROM:-0500
TZOFFSETTO:-0400
TZNAME:EDT
DTSTART:20250309T070000
END:DAYLIGHT
BEGIN:STANDARD
TZOFFSETFROM:-0400
TZOFFSETTO:-0500
TZNAME:EST
DTSTART:20251102T060000
END:STANDARD
BEGIN:DAYLIGHT
TZOFFSETFROM:-0500
TZOFFSETTO:-0400
TZNAME:EDT
DTSTART:20260308T070000
END:DAYLIGHT
BEGIN:STANDARD
TZOFFSETFROM:-0400
TZOFFSETTO:-0500
TZNAME:EST
DTSTART:20261101T060000
END:STANDARD
BEGIN:DAYLIGHT
TZOFFSETFROM:-0500
TZOFFSETTO:-0400
TZNAME:EDT
DTSTART:20270314T070000
END:DAYLIGHT
BEGIN:STANDARD
TZOFFSETFROM:-0400
TZOFFSETTO:-0500
TZNAME:EST
DTSTART:20271107T060000
END:STANDARD
END:VTIMEZONE
BEGIN:VEVENT
DTSTART;TZID=America/New_York:20260120T110000
DTEND;TZID=America/New_York:20260120T120000
DTSTAMP:20260423T181155
CREATED:20260107T173525Z
LAST-MODIFIED:20260107T173525Z
UID:34291-1768906800-1768910400@news.broadfield.com
SUMMARY:Viz Trio Webinar | January 20th  11am Eastern Time (10AM CST)
DESCRIPTION:Join Vizrt for the next installment of their Channel Partner Enablement Webinar Series. \n  \nWhat will be covered: \n\nViz Trio’s strengths and how to ensure your customers get maximum value\nA demo from resident expert\, Sean Barther\, showing real-world use cases\nConnecting data sources\nControlling data-driven real-time graphics for productions of any size\n\nThe webinar will wrap up with a Q&A session with Vizrt’s Product Specialist— come prepared with your questions about live graphics workflows \n  \nREGISTER HERE
URL:https://news.broadfield.com/event/viz-trio-webinar-january-20th-11am-eastern-time-10am-cst/
LOCATION:Zoom Webinar
ATTACH;FMTTYPE=image/png:https://news.broadfield.com/wp-content/uploads/2026/01/2c582a4b-80e3-4e22-acd1-c1d31d2b4b3f.png
END:VEVENT
END:VCALENDAR