BEGIN:VCALENDAR
VERSION:2.0
PRODID:-//BROADFIELD NEWS - ECPv6.15.20//NONSGML v1.0//EN
CALSCALE:GREGORIAN
METHOD:PUBLISH
X-WR-CALNAME:BROADFIELD NEWS
X-ORIGINAL-URL:https://news.broadfield.com
X-WR-CALDESC:Events for BROADFIELD NEWS
REFRESH-INTERVAL;VALUE=DURATION:PT1H
X-Robots-Tag:noindex
X-PUBLISHED-TTL:PT1H
BEGIN:VTIMEZONE
TZID:America/New_York
BEGIN:DAYLIGHT
TZOFFSETFROM:-0500
TZOFFSETTO:-0400
TZNAME:EDT
DTSTART:20230312T070000
END:DAYLIGHT
BEGIN:STANDARD
TZOFFSETFROM:-0400
TZOFFSETTO:-0500
TZNAME:EST
DTSTART:20231105T060000
END:STANDARD
BEGIN:DAYLIGHT
TZOFFSETFROM:-0500
TZOFFSETTO:-0400
TZNAME:EDT
DTSTART:20240310T070000
END:DAYLIGHT
BEGIN:STANDARD
TZOFFSETFROM:-0400
TZOFFSETTO:-0500
TZNAME:EST
DTSTART:20241103T060000
END:STANDARD
BEGIN:DAYLIGHT
TZOFFSETFROM:-0500
TZOFFSETTO:-0400
TZNAME:EDT
DTSTART:20250309T070000
END:DAYLIGHT
BEGIN:STANDARD
TZOFFSETFROM:-0400
TZOFFSETTO:-0500
TZNAME:EST
DTSTART:20251102T060000
END:STANDARD
END:VTIMEZONE
BEGIN:VEVENT
DTSTART;TZID=America/New_York:20241121T100000
DTEND;TZID=America/New_York:20241121T110000
DTSTAMP:20260424T181255
CREATED:20241030T175754Z
LAST-MODIFIED:20241030T175754Z
UID:30121-1732183200-1732186800@news.broadfield.com
SUMMARY:Connecting Through Video\, A New Era for Employee Engagement with Vizrt
DESCRIPTION:Engage and Connect: How Video is Shaping the Future of Employee Engagement\nEncouraging meaningful employee engagement through internal communications has become one of the key challenges for organizations\, especially those with hybrid working environments. \nIn today’s competitive landscape\, businesses need to stay updated on the latest communication trends to effectively connect with their employees\, no matter where they are. \nTo discover the advantages of using modern video technologies and how producing high-quality video can positively impact employee motivation\, join this webinar on November 21st\, Thursday\, at 9am CST / 4pm CET. \nREGISTER HERE! \nWhy attend?\nYou’ll leave with valuable insights on why video must be at the heart of internal communications. Our experts will share real-world use cases that illustrate how to leverage video to enhance workplace connections. You’ll also see a demonstration of how you can present information creatively and produce captivating internal events that create a memorable employee experience. \nWhat you’ll learn? \n\nTop findings and key statistics from Vizrt’s research on how video enhances communication and employee engagement\, providing real value for businesses\, including increased productivity and profitability.\nCreative ways to present essential information and data using real-time and interactive graphics\, lower-third titles\, virtual sets\, augmented reality\, animations\, video playbacks\, and other dynamic visual effects.\nA brief introduction to flexible and scalable AV-over-IP tools and workflows that enable organizations to professionally manage video production in-house.\nRecording and publishing video content to any platform in different formats\, resolutions\, and aspect ratios for live or on-demand viewing anytime\, anywhere\, on any device.\nTechniques for creating immersive experiences and adding production value into corporate town halls\, CEO presentations\, sales events\, webinars and live streams.\n\n  \nFEATURED SPEAKERS: \n\nAmisa Saari\nPR and External Communications Lead\nLennie Nelson\nStudio Lead\nRussell Leak\nPre-sales Consultant and Product Evangelist\n\nHOSTED BY: \n\nRichard Evans\nSenior Content Producer\n\nREGISTER HERE!
URL:https://news.broadfield.com/event/connecting-through-video-a-new-era-for-employee-engagement-with-vizrt/
ATTACH;FMTTYPE=image/jpeg:https://news.broadfield.com/wp-content/uploads/2024/10/Connecting_Through_Video_Webinar_Banners_1920x1080_v1d.jpg
END:VEVENT
END:VCALENDAR