BEGIN:VCALENDAR
VERSION:2.0
PRODID:-//BROADFIELD NEWS - ECPv6.15.20//NONSGML v1.0//EN
CALSCALE:GREGORIAN
METHOD:PUBLISH
X-ORIGINAL-URL:https://news.broadfield.com
X-WR-CALDESC:Events for BROADFIELD NEWS
REFRESH-INTERVAL;VALUE=DURATION:PT1H
X-Robots-Tag:noindex
X-PUBLISHED-TTL:PT1H
BEGIN:VTIMEZONE
TZID:America/North_Dakota/Center
BEGIN:DAYLIGHT
TZOFFSETFROM:-0600
TZOFFSETTO:-0500
TZNAME:CDT
DTSTART:20240310T080000
END:DAYLIGHT
BEGIN:STANDARD
TZOFFSETFROM:-0500
TZOFFSETTO:-0600
TZNAME:CST
DTSTART:20241103T070000
END:STANDARD
BEGIN:DAYLIGHT
TZOFFSETFROM:-0600
TZOFFSETTO:-0500
TZNAME:CDT
DTSTART:20250309T080000
END:DAYLIGHT
BEGIN:STANDARD
TZOFFSETFROM:-0500
TZOFFSETTO:-0600
TZNAME:CST
DTSTART:20251102T070000
END:STANDARD
BEGIN:DAYLIGHT
TZOFFSETFROM:-0600
TZOFFSETTO:-0500
TZNAME:CDT
DTSTART:20260308T080000
END:DAYLIGHT
BEGIN:STANDARD
TZOFFSETFROM:-0500
TZOFFSETTO:-0600
TZNAME:CST
DTSTART:20261101T070000
END:STANDARD
END:VTIMEZONE
BEGIN:VEVENT
DTSTART;TZID=America/North_Dakota/Center:20250116T100000
DTEND;TZID=America/North_Dakota/Center:20250116T173000
DTSTAMP:20260424T150303
CREATED:20241121T154939Z
LAST-MODIFIED:20241210T183912Z
UID:30270-1737021600-1737048600@news.broadfield.com
SUMMARY:Texas Film Gear Winter Showcase 2025
DESCRIPTION:Texas Film Gear presents a winter gear showcase on Thursday\, January 16th at 10am – 5:30pm CST. Vendor Demo table tops and seminars! Free Catered Lunch & Snacks (with registration) at noon + a sponsored Happy hour at 4:30pm!. Door Prizes will be done via raffle for registered attendees – must be registered to win \nBroadfield will have a table top with Vizrt. \nWorkshops: \nGreen Studio: \n\nCreamsource – Image Based Lighting\n\nmore TBA! \nWhite Studio: \n\nFujiFilm – New Cinema Fuji cameras!\nIodyne – New Strategies for on-set post workflows\n\nmore TBA! \nREGISTER HERE! \nTable Vendors include: \n\nBroadfield and VIzrt\nSony\nAJA\nSachtler\, Anton Bauer\, Litepanels\, Quasar Science\, Autoscript\nCanon\nRED\nBlackmagic Design\nBrainstorm 3D\nCartoni\nCreamsource\nInovativ Carts\nMid49\nDZO Lenses\nVizrt Tricaster\nYamaha\, Sennheiser\nShure\, Allen and Heath\, Data Video\nGodox lighting\nFujinon/ FujiFilm Cameras and Lenses\nEasyRig / Orca Bags\, Noga Arms\nAngenieux Lenses\nLiveU\, BirdDog\, Atomos\nDallas Producers Association\n\nand more! \nRegistration is FREE! \n 
URL:https://news.broadfield.com/event/texas-film-gear-winter-showcase-2025/
ATTACH;FMTTYPE=image/jpeg:https://news.broadfield.com/wp-content/uploads/2024/11/https___cdn.evbuc_.com_images_903124603_551509994827_1_original.jpg
END:VEVENT
END:VCALENDAR