BEGIN:VCALENDAR
VERSION:2.0
PRODID:-//BROADFIELD NEWS - ECPv6.15.20//NONSGML v1.0//EN
CALSCALE:GREGORIAN
METHOD:PUBLISH
X-WR-CALNAME:BROADFIELD NEWS
X-ORIGINAL-URL:https://news.broadfield.com
X-WR-CALDESC:Events for BROADFIELD NEWS
REFRESH-INTERVAL;VALUE=DURATION:PT1H
X-Robots-Tag:noindex
X-PUBLISHED-TTL:PT1H
BEGIN:VTIMEZONE
TZID:America/New_York
BEGIN:DAYLIGHT
TZOFFSETFROM:-0500
TZOFFSETTO:-0400
TZNAME:EDT
DTSTART:20250309T070000
END:DAYLIGHT
BEGIN:STANDARD
TZOFFSETFROM:-0400
TZOFFSETTO:-0500
TZNAME:EST
DTSTART:20251102T060000
END:STANDARD
BEGIN:DAYLIGHT
TZOFFSETFROM:-0500
TZOFFSETTO:-0400
TZNAME:EDT
DTSTART:20260308T070000
END:DAYLIGHT
BEGIN:STANDARD
TZOFFSETFROM:-0400
TZOFFSETTO:-0500
TZNAME:EST
DTSTART:20261101T060000
END:STANDARD
BEGIN:DAYLIGHT
TZOFFSETFROM:-0500
TZOFFSETTO:-0400
TZNAME:EDT
DTSTART:20270314T070000
END:DAYLIGHT
BEGIN:STANDARD
TZOFFSETFROM:-0400
TZOFFSETTO:-0500
TZNAME:EST
DTSTART:20271107T060000
END:STANDARD
END:VTIMEZONE
BEGIN:VEVENT
DTSTART;TZID=America/New_York:20260305T103000
DTEND;TZID=America/New_York:20260305T113000
DTSTAMP:20260423T163129
CREATED:20260227T202523Z
LAST-MODIFIED:20260227T202523Z
UID:34841-1772706600-1772710200@news.broadfield.com
SUMMARY:Vizrt Campus Sports Bundles Webinar | March 5th  9.30am CST (4:30 pm CET)
DESCRIPTION:Ready to learn more and sell more?  \nJoin Vizrt for the next installment of their Channel Partner Enablement Webinar Series. \nRegister HERE\nIn the webinar\, we will cover the Campus Sports Bundles\, focused on colleges and universities\, launched on January 29: \n\nBrief review of the bundles and how to sell them.\nAnswers to your questions\, issues\, and roadblocks experienced while trying to sell the bundles.\n\nWe want to have a highly interactive meeting to take live questions and discuss the bundles. \nRegister HERE\n 
URL:https://news.broadfield.com/event/vizrt-campus-sports-bundles-webinar-march-5th-9-30am-cst-430-pm-cet/
LOCATION:Zoom Webinar
ATTACH;FMTTYPE=image/png:https://news.broadfield.com/wp-content/uploads/2026/02/99b3c4e4-6787-4c54-94b3-db7972732a91.png
END:VEVENT
END:VCALENDAR