BEGIN:VCALENDAR
VERSION:2.0
PRODID:-//BROADFIELD NEWS - ECPv6.15.20//NONSGML v1.0//EN
CALSCALE:GREGORIAN
METHOD:PUBLISH
X-WR-CALNAME:BROADFIELD NEWS
X-ORIGINAL-URL:https://news.broadfield.com
X-WR-CALDESC:Events for BROADFIELD NEWS
REFRESH-INTERVAL;VALUE=DURATION:PT1H
X-Robots-Tag:noindex
X-PUBLISHED-TTL:PT1H
BEGIN:VTIMEZONE
TZID:America/New_York
BEGIN:DAYLIGHT
TZOFFSETFROM:-0500
TZOFFSETTO:-0400
TZNAME:EDT
DTSTART:20240310T070000
END:DAYLIGHT
BEGIN:STANDARD
TZOFFSETFROM:-0400
TZOFFSETTO:-0500
TZNAME:EST
DTSTART:20241103T060000
END:STANDARD
BEGIN:DAYLIGHT
TZOFFSETFROM:-0500
TZOFFSETTO:-0400
TZNAME:EDT
DTSTART:20250309T070000
END:DAYLIGHT
BEGIN:STANDARD
TZOFFSETFROM:-0400
TZOFFSETTO:-0500
TZNAME:EST
DTSTART:20251102T060000
END:STANDARD
BEGIN:DAYLIGHT
TZOFFSETFROM:-0500
TZOFFSETTO:-0400
TZNAME:EDT
DTSTART:20260308T070000
END:DAYLIGHT
BEGIN:STANDARD
TZOFFSETFROM:-0400
TZOFFSETTO:-0500
TZNAME:EST
DTSTART:20261101T060000
END:STANDARD
END:VTIMEZONE
BEGIN:VEVENT
DTSTART;TZID=America/New_York:20251119T130000
DTEND;TZID=America/New_York:20251119T140000
DTSTAMP:20260423T195317
CREATED:20251117T193542Z
LAST-MODIFIED:20251117T193542Z
UID:33935-1763557200-1763560800@news.broadfield.com
SUMMARY:AJA UDC-4K and ColorBox: Multi-Format Solutions for 4K Webinar
DESCRIPTION:North American resellers are invited to join AJA’s upcoming webinar focused on advanced 4K production solutions. The session will explore the powerful capabilities of the UDC-4K for live signal processing\, scaling\, and cross-conversion\, as well as best practices for professional color management with ColorBox. Whether attendees are looking to enhance their SDR and HDR workflows or want to learn how to achieve the perfect visual look for any project\, this session will provide valuable insights. \nParticipants will discover how UDC-4K and ColorBox streamline video production by enabling flexible\, real-time scaling and format conversion\, and by providing precise color management for both SDR and HDR workflows. These tools help ensure consistent\, professional-quality visuals\, making projects more efficient and visually polished. \nREGISTER HERE\nThis is an excellent opportunity for resellers to connect with industry experts and get their questions answered. Interested participants are encouraged to register now to secure their spot!
URL:https://news.broadfield.com/event/aja-udc-4k-and-colorbox-multi-format-solutions-for-4k-webinar/
LOCATION:Microsoft Teams Meeting
ATTACH;FMTTYPE=image/png:https://news.broadfield.com/wp-content/uploads/2025/11/image-2025-11-17T143145.671.png
END:VEVENT
END:VCALENDAR