BEGIN:VCALENDAR
VERSION:2.0
PRODID:-//BROADFIELD NEWS - ECPv6.15.20//NONSGML v1.0//EN
CALSCALE:GREGORIAN
METHOD:PUBLISH
X-WR-CALNAME:BROADFIELD NEWS
X-ORIGINAL-URL:https://news.broadfield.com
X-WR-CALDESC:Events for BROADFIELD NEWS
REFRESH-INTERVAL;VALUE=DURATION:PT1H
X-Robots-Tag:noindex
X-PUBLISHED-TTL:PT1H
BEGIN:VTIMEZONE
TZID:America/New_York
BEGIN:DAYLIGHT
TZOFFSETFROM:-0500
TZOFFSETTO:-0400
TZNAME:EDT
DTSTART:20250309T070000
END:DAYLIGHT
BEGIN:STANDARD
TZOFFSETFROM:-0400
TZOFFSETTO:-0500
TZNAME:EST
DTSTART:20251102T060000
END:STANDARD
BEGIN:DAYLIGHT
TZOFFSETFROM:-0500
TZOFFSETTO:-0400
TZNAME:EDT
DTSTART:20260308T070000
END:DAYLIGHT
BEGIN:STANDARD
TZOFFSETFROM:-0400
TZOFFSETTO:-0500
TZNAME:EST
DTSTART:20261101T060000
END:STANDARD
BEGIN:DAYLIGHT
TZOFFSETFROM:-0500
TZOFFSETTO:-0400
TZNAME:EDT
DTSTART:20270314T070000
END:DAYLIGHT
BEGIN:STANDARD
TZOFFSETFROM:-0400
TZOFFSETTO:-0500
TZNAME:EST
DTSTART:20271107T060000
END:STANDARD
END:VTIMEZONE
BEGIN:VEVENT
DTSTART;TZID=America/New_York:20260224T080000
DTEND;TZID=America/New_York:20260226T170000
DTSTAMP:20260423T154343
CREATED:20260223T154020Z
LAST-MODIFIED:20260223T154020Z
UID:34772-1771920000-1772125200@news.broadfield.com
SUMMARY:WorshipStreamTV 2026
DESCRIPTION:WorshipStreamTV is a 3-day virtual event series airing February 24-26 that is designed for Houses of Worship of all sizes. Live production in a religious context can offer various benefits for engaging congregations and expanding the reach of religious services. We are here to provide you with the tips\, tricks\, and tools you need to live stream for your House of Worship. \nOne registration gains you access to three days of informative webinars\, interviews with industry guests\, live demos\, chances to win great prizes\, and more! \nLearn more HERE \nRegister HERE \nWe will have guest segments from PTZOptics\, BirdDog\, Kiloview and Vizrt! Plus prizes from PTZOptics\, Elgato and more!
URL:https://news.broadfield.com/event/worshipstreamtv-2026/
ATTACH;FMTTYPE=image/jpeg:https://news.broadfield.com/wp-content/uploads/2026/02/638327766_1458601946276378_5988736238095290253_n.jpg
END:VEVENT
END:VCALENDAR